{"text_format":"1","workbook":"xlsx","n_sheets":2,"sheets":["DRUK ZAMÓWIENIA","EKSPORT"],"not_rendered":{"charts":0,"images":0,"macros":1,"external_links":0,"defined_names":5,"comments":1,"pivot_tables":0},"unopened":[],"bounds":{"document_bytes":16777216,"sheet_cells":100000,"rows_first":2000,"rows_last":500,"rows_between":2000,"halvings":0,"cell_chars":16384,"cell_head_chars":4096},"cells_cut":0,"cells_raw":0,"read":"whole","date_system":"1900"}

{"sheet":"DRUK ZAMÓWIENIA","index":0,"n_rows":185,"n_cols":40,"rows_kept":185,"cut":false,"hidden":false,"merged":[[1,16,9,16],[9,1,9,3],[8,1,8,3],[5,1,6,2],[8,13,8,14],[7,5,7,6],[7,1,7,3],[7,14,7,15],[7,7,7,13],[8,5,8,6],[1,1,1,7],[3,1,3,7],[4,1,4,7],[5,3,6,6],[1,14,5,15],[6,7,6,13],[6,14,6,15],[186,3,187,3],[186,6,187,7],[177,1,179,3],[9,5,9,6],[9,7,9,15],[186,14,187,15],[177,13,179,13],[177,14,179,15],[177,5,179,7]]}
[]
[null,"OKRĘGOWA SPÓŁDZIELNIA MLECZARSKA W PIĄTNICY  ",null,null,null,null,null,null,null,null,null,null,null,null,null,null,"EAN PRODUKTU",null,null,null,null,null,null,null,null,null,{"$f":"TEXT(NOW(),\"GGMM\")","v":"1117"}]
[]
[null," Tel. (0-86) 215 64 45, 40, 64, 09, 99    Fax ( 0-86) 215 64 03, 05"]
[null,"handel@piatnica.com.pl"]
[null,"  ODBIORCA:",null,"Nazwa Odbiorcy",null,null,null,"INFORMACJE"]
[null,null,null,null,null,null,null,"DATA REALIZACJI",null,null,null,null,null,null,{"$f":"IF(TEXT(F10,\"DDDD\")=\"piątek\",F10+3,F10+2)","v":"2025-03-14"},null,null,null,null,null,null,null,null,null,null,null,null,null,null,null,null,null,null,null,null,null,null,null,null,"Null"]
[null,"NUMER NIP",null,null,null,null,null,"godziny otwarcia"]
[null,"ZAMÓWIENIE nr",null,null,null,{"$f":"CONCATENATE(\"XLS/\",AA2,\"/\",F10-DATE(YEAR(F10),1,0),\"/\",YEAR(F10))","v":"XLS/1117/71/2025"},null,"UWAGI np.:",null,null,null,null,null,"Godzina dostawy  GG:MM"]
[null,"z dnia   rrrr-mm-dd",null,null,null,{"$f":"TODAY()","v":"2025-03-12"},null,"Ilość zamawiana",null,null,null,null,null,null,null,null,null,null,null,null,null,null,null,null,null,null,null,null,null,null,null,null,null,null,null,null,null,null,null,{"$f":"TEXT(F10, \"dddd\")","v":"środa"}]
[null,"Lp",null,"Nazwa artykułu",null,"Opakowanie jednostkowe","Opakowanie zbiorcze","Opakowań jednost. szt.","paleta","paletek ","szt","do liczenia paletek","do liczenia palet","Opakowań zbiorczych","Palet","Uwagi","Wyszukaj"]
[null,"Kolumna1","INDEKS","NAZWA","Kolumna8","KUBEK","W kartonie","SZT","Kolumna2","Kolumna3","Kolumna4","Kolumna5","Kolumna6","KART","Palet","Kolumna7","Kolumna72","CZY AKT"]
[null,{"$f":"SUBTOTAL(103,$C$13:C13)","v":1},103002,"Serek  wiejski 200g","https://piatnica.com.pl/content/uploads/2020/11/Serek_wiejski_200_g-460x358.png","Kubek 200g ","Tacka 12 szt.",{"$f":"IFERROR(Tabela1[[#This Row],[KART]]*Tabela1[[#This Row],[Kolumna4]],)","v":0},2304,192,12,{"$f":"IF(ISERROR(H13/K13),,H13/K13)","v":0},{"$f":"IF(ISERROR(H13/I13),,H13/I13)","v":0},{"$f":"IF(Tabela1[[#This Row],[Palet]]=0,0,IF(O13>0,O13*J13,))","v":{"$error":"#REF!"}},{"$f":"IF(N13>0,N13/J13,\"-\")","v":{"$error":"#REF!"}},null,5900531000010,"A"]
[null,{"$f":"SUBTOTAL(103,$C$13:C14)","v":1},103539,"Serek wiejski BIO 200g","https://piatnica.com.pl/content/uploads/2020/11/Serek_wiejski_BIO_200_g-460x358.png","Kubek 200g ","Tacka 12 szt.",{"$f":"IFERROR(Tabela1[[#This Row],[KART]]*Tabela1[[#This Row],[Kolumna4]],)","v":0},2304,192,12,0,0,{"$f":"IF(Tabela1[[#This Row],[Palet]]=0,0,IF(O14>0,O14*J14,))","v":{"$error":"#REF!"}},{"$f":"IF(N14>0,N14/J14,\"-\")","v":{"$error":"#REF!"}},null,5900531050015,"N"]
[null,{"$f":"SUBTOTAL(103,$C$13:C15)","v":2},103060,"Serek wiejski BEZ LAKTOZY 200g","https://piatnica.com.pl/content/uploads/2020/11/Serek_wiejski_bez_laktozy_200_g-460x358.png","Kubek 200g ","Tacka 12 szt.",{"$f":"IFERROR(Tabela1[[#This Row],[KART]]*Tabela1[[#This Row],[Kolumna4]],)","v":0},2304,192,12,0,0,{"$f":"IF(Tabela1[[#This Row],[Palet]]=0,0,IF(O15>0,O15*J15,))","v":{"$error":"#REF!"}},{"$error":"#REF!"},null,5900531004308,"A"]
[null,{"$f":"SUBTOTAL(103,$C$13:C16)","v":3},103065,"Serek wiejski WYSOKOBIAŁKOWY 200g","https://piatnica.com.pl/content/uploads/2020/11/Serek_wiejski_wysokobialkowy_200_g-460x358.png","Kubek 200g ","Tacka 12 szt.",{"$f":"IFERROR(Tabela1[[#This Row],[KART]]*Tabela1[[#This Row],[Kolumna4]],)","v":0},2304,192,12,0,0,{"$f":"IF(Tabela1[[#This Row],[Palet]]=0,0,IF(O16>0,O16*J16,))","v":{"$error":"#REF!"}},{"$error":"#REF!"},null,5900531007019,"A"]
[null,{"$f":"SUBTOTAL(103,$C$13:C17)","v":4},103003,"Serek wiejski \"RODZINNY\" 500g ","https://piatnica.com.pl/content/uploads/2020/11/Serek_wiejski_500_g-460x358.png","Kubek 500g","Tacka 6 szt.",{"$f":"IFERROR(Tabela1[[#This Row],[KART]]*Tabela1[[#This Row],[Kolumna4]],)","v":0},960,160,6,0,0,{"$f":"IF(Tabela1[[#This Row],[Palet]]=0,0,IF(O17>0,O17*J17,))","v":{"$error":"#REF!"}},{"$error":"#REF!"},null,5900531000041,"A"]
[null,{"$f":"SUBTOTAL(103,$C$13:C18)","v":5},103001,"Serek  wiejski lekki 150g","https://piatnica.com.pl/content/uploads/2020/11/Serek_wiejski_lekki_150_g-460x358.png","Kubek 150g ","Tacka 12 szt.",{"$f":"IFERROR(Tabela1[[#This Row],[KART]]*Tabela1[[#This Row],[Kolumna4]],)","v":0},3072,256,12,0,0,{"$f":"IF(Tabela1[[#This Row],[Palet]]=0,0,IF(O18>0,O18*J18,))","v":{"$error":"#REF!"}},{"$error":"#REF!"},null,5900531000102,"A"]
[null,{"$f":"SUBTOTAL(103,$C$13:C19)","v":5},103010,"Serek  wiejski lekki \"RODZINNY\" 500g","https://piatnica.com.pl/content/uploads/2020/11/Serek_wiejski_lekki_500_g-460x358.png","Kubek 500g","Tacka 6 szt.",{"$f":"IFERROR(Tabela1[[#This Row],[KART]]*Tabela1[[#This Row],[Kolumna4]],)","v":0},960,160,6,0,0,{"$f":"IF(Tabela1[[#This Row],[Palet]]=0,0,IF(O19>0,O19*J19,))","v":{"$error":"#REF!"}},{"$error":"#REF!"},null,5900531000072,"N"]
[null,{"$f":"SUBTOTAL(103,$C$13:C20)","v":6},103006,"Serek  wiejski ze szczypiorkiem","https://piatnica.com.pl/content/uploads/2020/11/Serek_wiejski_ze_szczypiorkiem_150_g-460x358.png","Kubek 150g ","Tacka 12 szt.",{"$f":"IFERROR(Tabela1[[#This Row],[KART]]*Tabela1[[#This Row],[Kolumna4]],)","v":0},3072,256,12,0,0,{"$f":"IF(Tabela1[[#This Row],[Palet]]=0,0,IF(O20>0,O20*J20,))","v":{"$error":"#REF!"}},{"$error":"#REF!"},null,5900531000201,"A"]
[null,{"$f":"SUBTOTAL(103,$C$13:C21)","v":6},103046,"Serek  wiejski z miodem",null,"Kubek 150g","Tacka 9 szt.",{"$f":"IFERROR(Tabela1[[#This Row],[KART]]*Tabela1[[#This Row],[Kolumna4]],)","v":0},1728,192,9,0,0,{"$f":"IF(Tabela1[[#This Row],[Palet]]=0,0,IF(O21>0,O21*J21,))","v":{"$error":"#VALUE!"}},{"$error":"#VALUE!"},null,5900531000928,"N"]
[null,{"$f":"SUBTOTAL(103,$C$13:C22)","v":7},103045,"Serek  wiejski z ananasem","https://piatnica.com.pl/content/uploads/2020/11/11716_ANANAS-SW-DUO-PIAT-11-23_wizualizacja-460x368.png","Kubek 150g ","Tacka 9 szt.",{"$f":"IFERROR(Tabela1[[#This Row],[KART]]*Tabela1[[#This Row],[Kolumna4]],)","v":0},2016,224,9,0,0,{"$f":"IF(Tabela1[[#This Row],[Palet]]=0,0,IF(O22>0,O22*J22,))","v":{"$error":"#REF!"}},{"$error":"#REF!"},null,5900531000911,"A"]
[null,{"$f":"SUBTOTAL(103,$C$13:C23)","v":8},103044,"Serek  wiejski z brzoskwinią","https://piatnica.com.pl/content/uploads/2020/11/11716_BRZOS-SW-DUO-PIAT-11-23_wizualizacja-460x368.png","Kubek 150g ","Tacka 9 szt.",{"$f":"IFERROR(Tabela1[[#This Row],[KART]]*Tabela1[[#This Row],[Kolumna4]],)","v":0},2016,224,9,0,0,{"$f":"IF(Tabela1[[#This Row],[Palet]]=0,0,IF(O23>0,O23*J23,))","v":{"$error":"#REF!"}},{"$error":"#REF!"},null,5900531000935,"A"]
[null,{"$f":"SUBTOTAL(103,$C$13:C24)","v":9},103047,"Serek  wiejski z truskawkami","https://piatnica.com.pl/content/uploads/2020/11/11716_TRUSK-SW-DUO-PIAT-11-23_wizualizacja-460x368.png","Kubek 150g ","Tacka 9 szt.",{"$f":"IFERROR(Tabela1[[#This Row],[KART]]*Tabela1[[#This Row],[Kolumna4]],)","v":0},2016,224,9,0,0,{"$f":"IF(Tabela1[[#This Row],[Palet]]=0,0,IF(O24>0,O24*J24,))","v":{"$error":"#REF!"}},{"$error":"#REF!"},null,5900531000942,"A"]
[null,{"$f":"SUBTOTAL(103,$C$13:C25)","v":10},103050,"Serek  wiejski z malinami i żurawiną","https://piatnica.com.pl/content/uploads/2020/11/11716_MAL-ZUR-SW-DUO-PIAT-11-23_wizualizacja-460x368.png","Kubek 150g ","Tacka 9 szt.",{"$f":"IFERROR(Tabela1[[#This Row],[KART]]*Tabela1[[#This Row],[Kolumna4]],)","v":0},2016,224,9,0,0,{"$f":"IF(Tabela1[[#This Row],[Palet]]=0,0,IF(O25>0,O25*J25,))","v":{"$error":"#REF!"}},{"$error":"#REF!"},null,5900531000980,"A"]
[null,{"$f":"SUBTOTAL(103,$C$13:C26)","v":11},103051,"Serek  wiejski z jagodami","https://piatnica.com.pl/content/uploads/2020/11/11716_JAGODA-SW-DUO-PIAT-11-23_wizualizacja-460x368.png","Kubek 150g ","Tacka 9 szt.",{"$f":"IFERROR(Tabela1[[#This Row],[KART]]*Tabela1[[#This Row],[Kolumna4]],)","v":0},2016,224,9,0,0,{"$f":"IF(Tabela1[[#This Row],[Palet]]=0,0,IF(O26>0,O26*J26,))","v":{"$error":"#REF!"}},{"$f":"IF(N26>0,N26/J26,\"-\")","v":{"$error":"#REF!"}},null,5900531000973,"A"]
[null,{"$f":"SUBTOTAL(103,$C$13:C27)","v":12},103053,"Serek  wiejski jabłko z cynamonem","https://piatnica.com.pl/content/uploads/2024/05/jablko-i-cynamon-2-460x422.png","Kubek 150g ","Tacka 9 szt.",{"$f":"IFERROR(Tabela1[[#This Row],[KART]]*Tabela1[[#This Row],[Kolumna4]],)","v":0},2016,224,9,{"$f":"IF(ISERROR(H27/K27),,H27/K27)","v":0},{"$f":"IF(ISERROR(H27/I27),,H27/I27)","v":0},{"$f":"IF(Tabela1[[#This Row],[Palet]]=0,0,IF(O27>0,O27*J27,))","v":{"$error":"#REF!"}},{"$f":"IF(N27>0,N27/J27,\"-\")","v":{"$error":"#REF!"}},null,"5900531001383","A"]
[null,{"$f":"SUBTOTAL(103,$C$13:C28)","v":13},103009,"Twarożek naturalny","https://piatnica.com.pl/content/uploads/2020/11/Twarozek-460x460.png","Kubek 150g","Tacka 12 szt.",{"$f":"IFERROR(Tabela1[[#This Row],[KART]]*Tabela1[[#This Row],[Kolumna4]],)","v":0},2304,192,12,0,0,{"$f":"IF(Tabela1[[#This Row],[Palet]]=0,0,IF(O28>0,O28*J28,))","v":{"$error":"#REF!"}},{"$error":"#REF!"},null,5900531000300,"A"]
[null,{"$f":"SUBTOTAL(103,$C$13:C29)","v":14},105004,"Twaróg wiejski lekki","https://piatnica.com.pl/content/uploads/2020/11/twarog_wiejski_chudy-460x358.png","Klinek 250g","Tacka 6 szt.",{"$f":"IFERROR(Tabela1[[#This Row],[KART]]*Tabela1[[#This Row],[Kolumna4]],)","v":0},2100,350,6,0,0,{"$f":"IF(Tabela1[[#This Row],[Palet]]=0,0,IF(O29>0,O29*J29,))","v":{"$error":"#REF!"}},{"$error":"#REF!"},null,5900531004049,"A"]
[null,{"$f":"SUBTOTAL(103,$C$13:C30)","v":15},105001,"Twaróg wiejski półtłusty","https://piatnica.com.pl/content/uploads/2020/11/twarog_wiejski_poltlusty-460x358.png","Klinek 250g","Tacka 6 szt.",{"$f":"IFERROR(Tabela1[[#This Row],[KART]]*Tabela1[[#This Row],[Kolumna4]],)","v":0},2100,350,6,0,0,{"$f":"IF(Tabela1[[#This Row],[Palet]]=0,0,IF(O30>0,O30*J30,))","v":{"$error":"#REF!"}},{"$error":"#REF!"},null,5900531004018,"A"]
[null,{"$f":"SUBTOTAL(103,$C$13:C31)","v":16},105002,"Twaróg wiejski tłusty","https://piatnica.com.pl/content/uploads/2020/11/twarog_wiejski_tlusty-460x358.png","Klinek 250g","Tacka 6 szt.",{"$f":"IFERROR(Tabela1[[#This Row],[KART]]*Tabela1[[#This Row],[Kolumna4]],)","v":0},2100,350,6,0,0,{"$f":"IF(Tabela1[[#This Row],[Palet]]=0,0,IF(O31>0,O31*J31,))","v":{"$error":"#REF!"}},{"$error":"#REF!"},null,5900531004025,"A"]
[null,{"$f":"SUBTOTAL(103,$C$13:C32)","v":17},105020,"TWARÓG MIELONY PÓŁTŁUSTY 250G",null,"Klinek 250g","Tacka 8 szt.",{"$f":"IFERROR(Tabela1[[#This Row],[KART]]*Tabela1[[#This Row],[Kolumna4]],)","v":0},{"$f":"Tabela1[[#This Row],[Kolumna3]]*Tabela1[[#This Row],[Kolumna4]]","v":1408},176,8,{"$f":"IF(ISERROR(H32/K32),,H32/K32)","v":0},{"$f":"IF(ISERROR(H32/I32),,H32/I32)","v":0},{"$f":"IF(Tabela1[[#This Row],[Palet]]=0,0,IF(O32>0,O32*J32,))","v":{"$error":"#REF!"}},{"$f":"IF(N32>0,N32/J32,\"-\")","v":{"$error":"#REF!"}},null,5900531105036,"A"]
[null,{"$f":"SUBTOTAL(103,$C$13:C33)","v":18},105021,"TWARÓG MIELONY CHUDY 250G",null,"Klinek 250g","Tacka 8 szt.",{"$f":"IFERROR(Tabela1[[#This Row],[KART]]*Tabela1[[#This Row],[Kolumna4]],)","v":0},{"$f":"Tabela1[[#This Row],[Kolumna3]]*Tabela1[[#This Row],[Kolumna4]]","v":1408},176,8,0,0,{"$f":"IF(Tabela1[[#This Row],[Palet]]=0,0,IF(O33>0,O33*J33,))","v":{"$error":"#REF!"}},{"$error":"#REF!"},null,5900531105043,"A"]
[null,{"$f":"SUBTOTAL(103,$C$13:C34)","v":19},105511,"Twaróg wiejski BIO","https://piatnica.com.pl/content/uploads/2020/11/Twarog_wiejski_BIO_250_g-460x358.png","Klinek 250g","Tacka 6 szt.",{"$f":"IFERROR(Tabela1[[#This Row],[KART]]*Tabela1[[#This Row],[Kolumna4]],)","v":0},2100,350,6,0,0,{"$f":"IF(Tabela1[[#This Row],[Palet]]=0,0,IF(O34>0,O34*J34,))","v":{"$error":"#REF!"}},{"$error":"#REF!"},null,5900531054013,"A"]
[null,{"$f":"SUBTOTAL(103,$C$13:C35)","v":20},105005,"Twaróg SERNIKOWY mielony","https://piatnica.com.pl/content/uploads/2020/11/14631_Twarog-sernikowy_2160x1680-460x358.png","Wiaderko 1kg","Tacka 6 szt.",{"$f":"IFERROR(Tabela1[[#This Row],[KART]]*Tabela1[[#This Row],[Kolumna4]],)","v":0},594,99,6,0,0,{"$f":"IF(Tabela1[[#This Row],[Palet]]=0,0,IF(O35>0,O35*J35,))","v":{"$error":"#REF!"}},{"$error":"#REF!"},null,5900531004056,"A"]
[null,{"$f":"SUBTOTAL(103,$C$13:C36)","v":21},104015,"Twój Smak  naturalny","https://piatnica.com.pl/content/uploads/2020/11/Twoj_smak_naturalny_135_g-460x358.png","Kubek 135g ","Karton 10 szt.",{"$f":"IFERROR(Tabela1[[#This Row],[KART]]*Tabela1[[#This Row],[Kolumna4]],)","v":0},4320,432,10,0,0,{"$f":"IF(Tabela1[[#This Row],[Palet]]=0,0,IF(O36>0,O36*J36,))","v":{"$error":"#REF!"}},{"$error":"#REF!"},null,5900531000508,"A"]
[null,{"$f":"SUBTOTAL(103,$C$13:C37)","v":22},104006,"Twój Smak  naturalny 200g","https://piatnica.com.pl/content/uploads/2020/11/Twoj_smak_naturalny_200_g-2-460x358.png","Kubek 200g ","Karton  8 szt.",{"$f":"IFERROR(Tabela1[[#This Row],[KART]]*Tabela1[[#This Row],[Kolumna4]],)","v":0},3456,432,8,0,0,{"$f":"IF(Tabela1[[#This Row],[Palet]]=0,0,IF(O37>0,O37*J37,))","v":{"$error":"#REF!"}},{"$error":"#REF!"},null,5900531000607,"A"]
[null,{"$f":"SUBTOTAL(103,$C$13:C38)","v":23},104017,"Twój Smak  z przyprawami","https://piatnica.com.pl/content/uploads/2020/11/Twoj_smak_z_przyprawami_135_g-460x358.png","Kubek 135g ","Karton 10 szt.",{"$f":"IFERROR(Tabela1[[#This Row],[KART]]*Tabela1[[#This Row],[Kolumna4]],)","v":0},4320,432,10,0,0,{"$f":"IF(Tabela1[[#This Row],[Palet]]=0,0,IF(O38>0,O38*J38,))","v":{"$error":"#REF!"}},{"$error":"#REF!"},null,5900531000522,"A"]
[null,{"$f":"SUBTOTAL(103,$C$13:C39)","v":24},104016,"Twój Smak  z chrzanem","https://piatnica.com.pl/content/uploads/2020/11/Twoj_smak_z_chrzanem_135_g-460x358.png","Kubek 135g ","Karton 10 szt.",{"$f":"IFERROR(Tabela1[[#This Row],[KART]]*Tabela1[[#This Row],[Kolumna4]],)","v":0},4320,432,10,0,0,{"$f":"IF(Tabela1[[#This Row],[Palet]]=0,0,IF(O39>0,O39*J39,))","v":{"$error":"#REF!"}},{"$error":"#REF!"},null,5900531000515,"A"]
[null,{"$f":"SUBTOTAL(103,$C$13:C40)","v":25},104018,"Twój Smak  z czosnkiem","https://piatnica.com.pl/content/uploads/2020/11/Twoj_smak_z_czosnkiem_135_g-460x358.png","Kubek 135g ","Karton 10 szt.",{"$f":"IFERROR(Tabela1[[#This Row],[KART]]*Tabela1[[#This Row],[Kolumna4]],)","v":0},4320,432,10,0,0,{"$f":"IF(Tabela1[[#This Row],[Palet]]=0,0,IF(O40>0,O40*J40,))","v":{"$error":"#REF!"}},{"$error":"#REF!"},null,5900531000539,"A"]
[null,{"$f":"SUBTOTAL(103,$C$13:C41)","v":26},104019,"Twój Smak  ze szczypiorkiem","https://piatnica.com.pl/content/uploads/2020/11/Two%CC%81j_smak_ze_szczypiorkiem_135_g-460x358.png","Kubek 135g ","Karton 10 szt.",{"$f":"IFERROR(Tabela1[[#This Row],[KART]]*Tabela1[[#This Row],[Kolumna4]],)","v":0},4320,432,10,0,0,{"$f":"IF(Tabela1[[#This Row],[Palet]]=0,0,IF(O41>0,O41*J41,))","v":{"$error":"#REF!"}},{"$error":"#REF!"},null,5900531000546,"A"]
[null,{"$f":"SUBTOTAL(103,$C$13:C42)","v":27},104050,"Twój Smak  z ziołami","https://piatnica.com.pl/content/uploads/2020/11/Twoj_smak_z_ziolami_135_g-460x358.png","Kubek 135g ","Karton 10 szt.",{"$f":"IFERROR(Tabela1[[#This Row],[KART]]*Tabela1[[#This Row],[Kolumna4]],)","v":0},4320,432,10,0,0,{"$f":"IF(Tabela1[[#This Row],[Palet]]=0,0,IF(O42>0,O42*J42,))","v":{"$error":"#REF!"}},{"$error":"#REF!"},null,5900531001710,"A"]
[null,{"$f":"SUBTOTAL(103,$C$13:C43)","v":28},104520,"Twój Smak „PUSZYSTY” naturalny","https://piatnica.com.pl/content/uploads/2020/11/Twoj_smak_puszysty_naturalny_150_g-460x358.png","Kubek 150g","Karton 10 szt.",{"$f":"IFERROR(Tabela1[[#This Row],[KART]]*Tabela1[[#This Row],[Kolumna4]],)","v":0},2040,204,10,0,0,{"$f":"IF(Tabela1[[#This Row],[Palet]]=0,0,IF(O43>0,O43*J43,))","v":{"$error":"#REF!"}},{"$error":"#REF!"},null,5900531000706,"A"]
[null,{"$f":"SUBTOTAL(103,$C$13:C44)","v":29},104522,"Twój Smak „PUSZYSTY” zioła","https://piatnica.com.pl/content/uploads/2020/11/Twoj_smak_puszysty_z_ziolami_150_g-460x358.png","Kubek 150g","Karton 10 szt.",{"$f":"IFERROR(Tabela1[[#This Row],[KART]]*Tabela1[[#This Row],[Kolumna4]],)","v":0},2040,204,10,0,0,{"$f":"IF(Tabela1[[#This Row],[Palet]]=0,0,IF(O44>0,O44*J44,))","v":{"$error":"#REF!"}},{"$error":"#REF!"},null,5900531000720,"A"]
[null,{"$f":"SUBTOTAL(103,$C$13:C45)","v":30},104523,"Twój Smak „PUSZYSTY” szczypior","https://piatnica.com.pl/content/uploads/2020/11/Twoj_smak_puszysty_ze_szczypiorem_150_g-460x358.png","Kubek 150g","Karton 10 szt.",{"$f":"IFERROR(Tabela1[[#This Row],[KART]]*Tabela1[[#This Row],[Kolumna4]],)","v":0},2040,204,10,0,0,{"$f":"IF(Tabela1[[#This Row],[Palet]]=0,0,IF(O45>0,O45*J45,))","v":{"$error":"#REF!"}},{"$error":"#REF!"},null,5900531000713,"A"]
[null,{"$f":"SUBTOTAL(103,$C$13:C46)","v":31},104521,"Twój Smak „PUSZYSTY” pieprz","https://piatnica.com.pl/content/uploads/2020/11/Twoj_smak_puszysty_z_pieprzem_150_g-460x358.png","Kubek 150g","Karton 10 szt.",{"$f":"IFERROR(Tabela1[[#This Row],[KART]]*Tabela1[[#This Row],[Kolumna4]],)","v":0},2040,204,10,0,0,{"$f":"IF(Tabela1[[#This Row],[Palet]]=0,0,IF(O46>0,O46*J46,))","v":{"$error":"#REF!"}},{"$error":"#REF!"},null,5900531000737,"A"]
[null,{"$f":"SUBTOTAL(103,$C$13:C47)","v":32},104535,"Twój Smak „PUSZYSTY” z łososiem ","https://piatnica.com.pl/content/uploads/2020/11/Twoj_smak_puszysty_z_lososiem_150_g-460x358.png","Kubek 150g","Karton 10 szt.",{"$f":"IFERROR(Tabela1[[#This Row],[KART]]*Tabela1[[#This Row],[Kolumna4]],)","v":0},2040,204,10,0,0,{"$f":"IF(Tabela1[[#This Row],[Palet]]=0,0,IF(O47>0,O47*J47,))","v":{"$error":"#REF!"}},{"$error":"#REF!"},null,5900531000775,"A"]
[null,{"$f":"SUBTOTAL(103,$C$13:C48)","v":33},104030,"Twój Smak „PUSZYSTY” z pomidorami","https://piatnica.com.pl/content/uploads/2020/11/Twoj_smak_puszysty_z_pomidorami_suszonymi_na_sloncu_150_g-460x358.png","Kubek 150g","Karton 10 szt.",{"$f":"IFERROR(Tabela1[[#This Row],[KART]]*Tabela1[[#This Row],[Kolumna4]],)","v":0},2040,204,10,0,0,{"$f":"IF(Tabela1[[#This Row],[Palet]]=0,0,IF(O48>0,O48*J48,))","v":{"$error":"#REF!"}},{"$error":"#REF!"},null,5900531000843,"A"]
[null,{"$f":"SUBTOTAL(103,$C$13:C49)","v":33},104562,"Twój Smak „PUSZYSTY” z grzybami leśnymi",null,"Kubek 150g","Karton 10 szt.",{"$f":"IFERROR(Tabela1[[#This Row],[KART]]*Tabela1[[#This Row],[Kolumna4]],)","v":0},2040,204,10,0,0,{"$f":"IF(Tabela1[[#This Row],[Palet]]=0,0,IF(O49>0,O49*J49,))","v":{"$error":"#VALUE!"}},{"$f":"IF(N49>0,N49/J49,\"-\")","v":{"$error":"#VALUE!"}},null,"5900531001758","N"]
[null,{"$f":"SUBTOTAL(103,$C$13:C50)","v":34},104563,"Twój Smak „PUSZYSTY” z chrzanem","https://piatnica.com.pl/content/uploads/2020/11/Twoj_smak_puszysty_z_chrzanem_150_g-460x358.png","Kubek 150g","Karton 10 szt.",{"$f":"IFERROR(Tabela1[[#This Row],[KART]]*Tabela1[[#This Row],[Kolumna4]],)","v":0},2040,204,10,0,0,{"$f":"IF(Tabela1[[#This Row],[Palet]]=0,0,IF(O50>0,O50*J50,))","v":{"$error":"#REF!"}},{"$error":"#REF!"},null,5900531000867,"A"]
[null,{"$f":"SUBTOTAL(103,$C$13:C51)","v":35},104411,"Twój Smak Aksamitny naturalny","https://piatnica.com.pl/content/uploads/2020/11/11416_TS_AKS_KLASYCZNY-135G-PIAT_wizualizacja-460x358.png","Kubek 135g ","Karton 8 szt.",{"$f":"IFERROR(Tabela1[[#This Row],[KART]]*Tabela1[[#This Row],[Kolumna4]],)","v":0},3264,408,8,0,0,{"$f":"IF(Tabela1[[#This Row],[Palet]]=0,0,IF(O51>0,O51*J51,))","v":{"$error":"#REF!"}},{"$error":"#REF!"},null,5900531006005,"A"]
[null,{"$f":"SUBTOTAL(103,$C$13:C52)","v":36},104412,"Twój Smak Aksamitny z ziołami","https://piatnica.com.pl/content/uploads/2020/11/11416_TS-AKS-ZIOLOWY-135G-PIAT_wizualizacja-460x358.png","Kubek 135g ","Karton 8 szt.",{"$f":"IFERROR(Tabela1[[#This Row],[KART]]*Tabela1[[#This Row],[Kolumna4]],)","v":0},3264,408,8,0,0,{"$f":"IF(Tabela1[[#This Row],[Palet]]=0,0,IF(O52>0,O52*J52,))","v":{"$error":"#REF!"}},{"$error":"#REF!"},null,5900531006012,"A"]
[null,{"$f":"SUBTOTAL(103,$C$13:C53)","v":36},104403,"Serek Milandia ze szpinakiem i czosnkiem",null,"Kubek 135g ","Karton 10 szt.",{"$f":"IFERROR(Tabela1[[#This Row],[KART]]*Tabela1[[#This Row],[Kolumna4]],)","v":0},3150,315,12,0,0,{"$f":"IF(Tabela1[[#This Row],[Palet]]=0,0,IF(O53>0,O53*J53,))","v":{"$error":"#VALUE!"}},{"$error":"#VALUE!"},null,5900531006029,"N"]
[null,{"$f":"SUBTOTAL(103,$C$13:C54)","v":37},104414,"Twój Smak Aksamitny  z Łososiem","https://piatnica.com.pl/content/uploads/2020/11/11416_TS_AKS_LOSOS-135G-PIAT_wizualizacja-460x358.png","Kubek 135g ","Karton 8 szt.",{"$f":"IFERROR(Tabela1[[#This Row],[KART]]*Tabela1[[#This Row],[Kolumna4]],)","v":0},3264,408,8,0,0,{"$f":"IF(Tabela1[[#This Row],[Palet]]=0,0,IF(O54>0,O54*J54,))","v":{"$error":"#REF!"}},{"$error":"#REF!"},null,5900531006036,"A"]
[null,{"$f":"SUBTOTAL(103,$C$13:C55)","v":37},104415,"Twój Smak Aksamitny  z jogurtem",null,"Kubek 135g ","Karton 8 szt.",{"$f":"IFERROR(Tabela1[[#This Row],[KART]]*Tabela1[[#This Row],[Kolumna4]],)","v":0},3264,408,8,0,0,{"$f":"IF(Tabela1[[#This Row],[Palet]]=0,0,IF(O55>0,O55*J55,))","v":{"$error":"#VALUE!"}},{"$error":"#VALUE!"},null,"5900531006043","N"]
[null,{"$f":"SUBTOTAL(103,$C$13:C56)","v":38},106001,"Mascarpone","https://piatnica.com.pl/content/uploads/2022/03/14631_Mascarpone-250g_2160x1680-460x358.png","Kubek 250g","Karton 6 szt.",{"$f":"IFERROR(Tabela1[[#This Row],[KART]]*Tabela1[[#This Row],[Kolumna4]],)","v":0},1800,300,6,0,0,{"$f":"IF(Tabela1[[#This Row],[Palet]]=0,0,IF(O56>0,O56*J56,))","v":{"$error":"#REF!"}},{"$error":"#REF!"},null,5900531001406,"A"]
[null,{"$f":"SUBTOTAL(103,$C$13:C57)","v":39},106003,"Mascarpone 500g","https://piatnica.com.pl/content/uploads/2020/11/14631_Mascarpone-500g_2160x1680-460x358.png","Kubek 500g","Karton 6 szt.",{"$f":"IFERROR(Tabela1[[#This Row],[KART]]*Tabela1[[#This Row],[Kolumna4]],)","v":0},1080,180,6,0,0,{"$f":"IF(Tabela1[[#This Row],[Palet]]=0,0,IF(O57>0,O57*J57,))","v":{"$error":"#REF!"}},{"$error":"#REF!"},null,5900531001475,"A"]
[null,{"$f":"SUBTOTAL(103,$C$13:C58)","v":39},664001,"Kefir 0%",null,"Kubek 330g ","Tacka 12 szt.",{"$f":"IFERROR(Tabela1[[#This Row],[KART]]*Tabela1[[#This Row],[Kolumna4]],)","v":0},2016,168,12,0,0,{"$f":"IF(Tabela1[[#This Row],[Palet]]=0,0,IF(O58>0,O58*J58,))","v":{"$error":"#VALUE!"}},{"$error":"#VALUE!"},null,5900531003776,"N"]
[null,{"$f":"SUBTOTAL(103,$C$13:C59)","v":40},664002,"Kefir 2%",null,"Kubek 330g ","Tacka 12 szt.",{"$f":"IFERROR(Tabela1[[#This Row],[KART]]*Tabela1[[#This Row],[Kolumna4]],)","v":0},{"$f":"Tabela1[[#This Row],[Kolumna3]]*Tabela1[[#This Row],[Kolumna4]]","v":1728},144,12,0,0,{"$f":"IF(Tabela1[[#This Row],[Palet]]=0,0,IF(O59>0,O59*J59,))","v":{"$error":"#VALUE!"}},{"$error":"#VALUE!"},null,5900531003776,"A"]
[null,{"$f":"SUBTOTAL(103,$C$13:C60)","v":41},109001,"Serek Homogenizowany naturalny","https://piatnica.com.pl/content/uploads/2020/11/Serek_homogenizowany_naturalny_150_g-460x358.png","Kubek 150g ","Tacka 12 szt.",{"$f":"IFERROR(Tabela1[[#This Row],[KART]]*Tabela1[[#This Row],[Kolumna4]],)","v":0},2688,224,12,0,0,{"$f":"IF(Tabela1[[#This Row],[Palet]]=0,0,IF(O60>0,O60*J60,))","v":{"$error":"#REF!"}},{"$error":"#REF!"},null,5900531011030,"A"]
[null,{"$f":"SUBTOTAL(103,$C$13:C61)","v":42},109002,"Serek Homogenizowany waniliowy","https://piatnica.com.pl/content/uploads/2020/11/Serek_homogenizowany_waniliowy_150_g-460x358.png","Kubek 150g ","Tacka 12 szt.",{"$f":"IFERROR(Tabela1[[#This Row],[KART]]*Tabela1[[#This Row],[Kolumna4]],)","v":0},2688,224,12,0,0,{"$f":"IF(Tabela1[[#This Row],[Palet]]=0,0,IF(O61>0,O61*J61,))","v":{"$error":"#REF!"}},{"$error":"#REF!"},null,5900531011016,"A"]
[null,{"$f":"SUBTOTAL(103,$C$13:C62)","v":43},109003,"Serek Homogenizowany truskawkowy","https://piatnica.com.pl/content/uploads/2020/11/Serek_homogenizowany_truskawkowy_150_g-460x358.png","Kubek 150g ","Tacka 12 szt.",{"$f":"IFERROR(Tabela1[[#This Row],[KART]]*Tabela1[[#This Row],[Kolumna4]],)","v":0},2688,224,12,0,0,{"$f":"IF(Tabela1[[#This Row],[Palet]]=0,0,IF(O62>0,O62*J62,))","v":{"$error":"#REF!"}},{"$error":"#REF!"},null,5900531011023,"A"]
[null,{"$f":"SUBTOTAL(103,$C$13:C63)","v":44},109004,"Serek Homogenizowany straciatella","https://piatnica.com.pl/content/uploads/2020/11/Serek_homogenizowany_straciatella_150_g-460x358.png","Kubek 150g ","Tacka 12 szt.",{"$f":"IFERROR(Tabela1[[#This Row],[KART]]*Tabela1[[#This Row],[Kolumna4]],)","v":0},2688,224,12,0,0,{"$f":"IF(Tabela1[[#This Row],[Palet]]=0,0,IF(O63>0,O63*J63,))","v":{"$error":"#REF!"}},{"$error":"#REF!"},null,5900531011047,"A"]
[null,{"$f":"SUBTOTAL(103,$C$13:C64)","v":45},109005,"Serek Homogenizowany kokosowy","https://piatnica.com.pl/content/uploads/2021/06/11850_kokos-460x358.png","Kubek 150g ","Tacka 12 szt.",{"$f":"IFERROR(Tabela1[[#This Row],[KART]]*Tabela1[[#This Row],[Kolumna4]],)","v":0},2688,224,12,0,0,{"$f":"IF(Tabela1[[#This Row],[Palet]]=0,0,IF(O64>0,O64*J64,))","v":{"$error":"#REF!"}},{"$error":"#REF!"},null,5900531011061,"A"]
[null,{"$f":"SUBTOTAL(103,$C$13:C65)","v":46},109008,"Serek Homogenizowany ciasteczkowy","https://piatnica.com.pl/content/uploads/2023/05/11850_ciasteczka_wizualizacja-460x358.png","Kubek 150g ","Tacka 12 szt.",{"$f":"IFERROR(Tabela1[[#This Row],[KART]]*Tabela1[[#This Row],[Kolumna4]],)","v":0},2688,224,12,{"$f":"IF(ISERROR(H65/K65),,H65/K65)","v":0},{"$f":"IF(ISERROR(H65/I65),,H65/I65)","v":0},{"$f":"IF(Tabela1[[#This Row],[Palet]]=0,0,IF(O65>0,O65*J65,))","v":{"$error":"#REF!"}},{"$f":"IF(N65>0,N65/J65,\"-\")","v":{"$error":"#REF!"}},null,"5900531011139","A"]
[null,{"$f":"SUBTOTAL(103,$C$13:C66)","v":47},109014,"Serek Homogenizowany brzoskwiniowy 150g","https://piatnica.com.pl/content/uploads/2025/03/11850_ciasteczka_wizualizacja-1-460x358.png","Kubek 150g ","Tacka 12 szt.",{"$f":"IFERROR(Tabela1[[#This Row],[KART]]*Tabela1[[#This Row],[Kolumna4]],)","v":0},2688,224,12,{"$f":"IF(ISERROR(H66/K66),,H66/K66)","v":0},{"$f":"IF(ISERROR(H66/I66),,H66/I66)","v":0},{"$f":"IF(Tabela1[[#This Row],[Palet]]=0,0,IF(O66>0,O66*J66,))","v":{"$error":"#REF!"}},{"$f":"IF(N66>0,N66/J66,\"-\")","v":{"$error":"#REF!"}},null,5900531011207,"A"]
[null,{"$f":"SUBTOTAL(103,$C$13:C67)","v":48},108001,"Twój Smak w Plastrach Śmietankowy","https://piatnica.com.pl/content/uploads/2020/11/Twoj-Smak_smietankowy_w_plastrach_naturalny-460x358.png","Tacka 150g","Karton 10 szt.",{"$f":"IFERROR(Tabela1[[#This Row],[KART]]*Tabela1[[#This Row],[Kolumna4]],)","v":0},1120,112,10,{"$f":"IF(ISERROR(H67/K67),,H67/K67)","v":0},{"$f":"IF(ISERROR(H67/I67),,H67/I67)","v":0},{"$f":"IF(Tabela1[[#This Row],[Palet]]=0,0,IF(O67>0,O67*J67,))","v":{"$error":"#REF!"}},{"$error":"#REF!"},null,5901939020013,"A"]
[null,{"$f":"SUBTOTAL(103,$C$13:C68)","v":49},108002,"Twój Smak w Plastrach  z Ziołami","https://piatnica.com.pl/content/uploads/2020/11/Twoj-Smak_smietankowy_w_plastrach_ziolowy-460x358.png","Tacka 150g","Karton 10 szt.",{"$f":"IFERROR(Tabela1[[#This Row],[KART]]*Tabela1[[#This Row],[Kolumna4]],)","v":0},1120,112,10,{"$f":"IF(ISERROR(H68/K68),,H68/K68)","v":0},{"$f":"IF(ISERROR(H68/I68),,H68/I68)","v":0},{"$f":"IF(Tabela1[[#This Row],[Palet]]=0,0,IF(O68>0,O68*J68,))","v":{"$error":"#REF!"}},{"$error":"#REF!"},null,5901939020044,"A"]
[null,{"$f":"SUBTOTAL(103,$C$13:C69)","v":50},108004,"Twój Smak w Plastrach Papryka i Pomidor","https://piatnica.com.pl/content/uploads/2020/11/Twoj-Smak_serek_smietankowy_w_plastrach_paprykowy-460x358.png","Tacka 150g","Karton 10 szt.",{"$f":"IFERROR(Tabela1[[#This Row],[KART]]*Tabela1[[#This Row],[Kolumna4]],)","v":0},1120,112,10,{"$f":"IF(ISERROR(H69/K69),,H69/K69)","v":0},{"$f":"IF(ISERROR(H69/I69),,H69/I69)","v":0},{"$f":"IF(Tabela1[[#This Row],[Palet]]=0,0,IF(O69>0,O69*J69,))","v":{"$error":"#REF!"}},{"$error":"#REF!"},null,5901939020020,"A"]
[null,{"$f":"SUBTOTAL(103,$C$13:C70)","v":51},102009,"Śmietana 10%","https://piatnica.com.pl/content/uploads/2020/11/smietana-3.png","Kubek 200g ","Tacka 12 szt.",{"$f":"IFERROR(Tabela1[[#This Row],[KART]]*Tabela1[[#This Row],[Kolumna4]],)","v":0},2400,200,12,0,0,{"$f":"IF(Tabela1[[#This Row],[Palet]]=0,0,IF(O70>0,O70*J70,))","v":{"$error":"#REF!"}},{"$error":"#REF!"},null,5900531001062,"A"]
[null,{"$f":"SUBTOTAL(103,$C$13:C71)","v":52},102002,"Śmietana 12%","https://piatnica.com.pl/content/uploads/2020/11/Smietana_12_200_g-460x358.png","Kubek 200g ","Tacka 12 szt.",{"$f":"IFERROR(Tabela1[[#This Row],[KART]]*Tabela1[[#This Row],[Kolumna4]],)","v":0},2400,200,12,0,0,{"$f":"IF(Tabela1[[#This Row],[Palet]]=0,0,IF(O71>0,O71*J71,))","v":{"$error":"#REF!"}},{"$error":"#REF!"},null,5901939010014,"A"]
[null,{"$f":"SUBTOTAL(103,$C$13:C72)","v":53},102011,"Śmietana 12 % ","https://piatnica.com.pl/content/uploads/2020/11/Smietana_12_400_g-460x358.png","Kubek 400g ","Tacka 12 szt.",{"$f":"IFERROR(Tabela1[[#This Row],[KART]]*Tabela1[[#This Row],[Kolumna4]],)","v":0},1344,112,12,0,0,{"$f":"IF(Tabela1[[#This Row],[Palet]]=0,0,IF(O72>0,O72*J72,))","v":{"$error":"#REF!"}},{"$error":"#REF!"},null,5900531001109,"A"]
[null,{"$f":"SUBTOTAL(103,$C$13:C73)","v":54},102003,"Śmietana 18%","https://piatnica.com.pl/content/uploads/2020/11/Smietana_18_200_g-460x358.png","Kubek 200g ","Tacka 12 szt.",{"$f":"IFERROR(Tabela1[[#This Row],[KART]]*Tabela1[[#This Row],[Kolumna4]],)","v":0},2400,200,12,0,0,{"$f":"IF(Tabela1[[#This Row],[Palet]]=0,0,IF(O73>0,O73*J73,))","v":{"$error":"#REF!"}},{"$error":"#REF!"},null,5900531001031,"A"]
[null,{"$f":"SUBTOTAL(103,$C$13:C74)","v":54},102508,"Śmietana 18% BIO ","https://piatnica.com.pl/content/uploads/2020/11/Smietana_18_BIO_200_g-460x358.png","Kubek 200g ","Tacka 12 szt.",{"$f":"IFERROR(Tabela1[[#This Row],[KART]]*Tabela1[[#This Row],[Kolumna4]],)","v":0},2400,200,12,0,0,{"$f":"IF(Tabela1[[#This Row],[Palet]]=0,0,IF(O74>0,O74*J74,))","v":{"$error":"#REF!"}},{"$error":"#REF!"},null,5900531009013,"N"]
[null,{"$f":"SUBTOTAL(103,$C$13:C75)","v":54},662001,"ŚMIETANA 18% 250 ml",null,"Butelka 250g ","Zgrzewka 12 szt.",{"$f":"IFERROR(Tabela1[[#This Row],[KART]]*Tabela1[[#This Row],[Kolumna4]],)","v":0},2304,192,12,0,0,{"$f":"IF(Tabela1[[#This Row],[Palet]]=0,0,IF(O75>0,O75*J75,))","v":{"$error":"#VALUE!"}},{"$error":"#VALUE!"},null,"5901939005010","N"]
[null,{"$f":"SUBTOTAL(103,$C$13:C76)","v":55},102007,"Śmietana 18% ","https://piatnica.com.pl/content/uploads/2020/11/Smietana_18_400_g-460x358.png","Kubek 400g ","Tacka 12 szt.",{"$f":"IFERROR(Tabela1[[#This Row],[KART]]*Tabela1[[#This Row],[Kolumna4]],)","v":0},1344,112,12,0,0,{"$f":"IF(Tabela1[[#This Row],[Palet]]=0,0,IF(O76>0,O76*J76,))","v":{"$error":"#REF!"}},{"$error":"#REF!"},null,5900531001130,"A"]
[null,{"$f":"SUBTOTAL(103,$C$13:C77)","v":56},102026,"Śmietana 30%","https://piatnica.com.pl/content/uploads/2020/11/11855_30_SM_200G-PIAT-7-22_wizualizacja-460x358.png","Kubek 200g ","Tacka 12 szt.",{"$f":"IFERROR(Tabela1[[#This Row],[KART]]*Tabela1[[#This Row],[Kolumna4]],)","v":0},2400,200,12,0,0,{"$f":"IF(Tabela1[[#This Row],[Palet]]=0,0,IF(O77>0,O77*J77,))","v":{"$error":"#REF!"}},{"$error":"#REF!"},null,5900531001086,"A"]
[null,{"$f":"SUBTOTAL(103,$C$13:C78)","v":56},662002,"Śmietana 30% 250 ml",null,"Butelka 250g ","Zgrzewka 12 szt.",{"$f":"IFERROR(Tabela1[[#This Row],[KART]]*Tabela1[[#This Row],[Kolumna4]],)","v":0},2304,192,12,0,0,{"$f":"IF(Tabela1[[#This Row],[Palet]]=0,0,IF(O78>0,O78*J78,))","v":{"$error":"#VALUE!"}},{"$error":"#VALUE!"},null,"5901939005027","N"]
[null,{"$f":"SUBTOTAL(103,$C$13:C79)","v":57},102001,"Śmietanka 30% do ubijania ","https://piatnica.com.pl/content/uploads/2020/11/12133_30_SM_400G-PIAT-7-22_wizualizacja-460x358.png","Kubek 400g","Tacka 12 szt.",{"$f":"IFERROR(Tabela1[[#This Row],[KART]]*Tabela1[[#This Row],[Kolumna4]],)","v":0},1344,112,12,0,0,{"$f":"IF(Tabela1[[#This Row],[Palet]]=0,0,IF(O79>0,O79*J79,))","v":{"$error":"#REF!"}},{"$error":"#REF!"},null,5900531001079,"A"]
[null,{"$f":"SUBTOTAL(103,$C$13:C80)","v":58},102005,"Śmietana 36%","https://piatnica.com.pl/content/uploads/2020/11/11855_36_SMIET_200G_PIAT_wizualizacja-460x358.png","Kubek 200g ","Tacka 12 szt.",{"$f":"IFERROR(Tabela1[[#This Row],[KART]]*Tabela1[[#This Row],[Kolumna4]],)","v":0},2400,200,12,0,0,{"$f":"IF(Tabela1[[#This Row],[Palet]]=0,0,IF(O80>0,O80*J80,))","v":{"$error":"#REF!"}},{"$error":"#REF!"},null,5900531001024,"A"]
[null,{"$f":"SUBTOTAL(103,$C$13:C81)","v":59},107100,"Jogurt Naturalny 2% 180g","https://piatnica.com.pl/content/uploads/2020/11/12259_NATUR_JOG_330G_PIAT_wizualizacja-460x358.png","Kubek 180g","Tacka 20 szt.",{"$f":"IFERROR(Tabela1[[#This Row],[KART]]*Tabela1[[#This Row],[Kolumna4]],)","v":0},2400,120,20,0,0,{"$f":"IF(Tabela1[[#This Row],[Palet]]=0,0,IF(O81>0,O81*J81,))","v":{"$error":"#REF!"}},{"$error":"#REF!"},null,5900531000423,"A"]
[null,{"$f":"SUBTOTAL(103,$C$13:C82)","v":60},107548,"Jogurt BIO","https://piatnica.com.pl/content/uploads/2020/11/1290_BIO_NAT_JOG_140G_PIAT_wizualizacja-2-460x358.png","Kubek 140g","Tacka 20 szt.",{"$f":"IFERROR(Tabela1[[#This Row],[KART]]*Tabela1[[#This Row],[Kolumna4]],)","v":0},3200,160,20,0,0,{"$f":"IF(Tabela1[[#This Row],[Palet]]=0,0,IF(O82>0,O82*J82,))","v":{"$error":"#REF!"}},{"$error":"#REF!"},null,5900531003424,"A"]
[null,{"$f":"SUBTOTAL(103,$C$13:C83)","v":61},107020,"Jogurt Naturalny 2% 330g","https://piatnica.com.pl/content/uploads/2020/11/12259_NATUR_JOG_330G_PIAT_wizualizacja-460x358.png","Kubek 330g","Tacka 12 szt.",{"$f":"IFERROR(Tabela1[[#This Row],[KART]]*Tabela1[[#This Row],[Kolumna4]],)","v":0},1344,112,12,0,0,{"$f":"IF(Tabela1[[#This Row],[Palet]]=0,0,IF(O83>0,O83*J83,))","v":{"$error":"#REF!"}},{"$error":"#REF!"},null,5900531003738,"A"]
[null,{"$f":"SUBTOTAL(103,$C$13:C84)","v":62},107009,"Jogurt Grecki Naturalny 0%","https://piatnica.com.pl/content/uploads/2020/11/10965-0_NAT-GREC-150G-PIAT_wizualizacja-460x358.png","Kubek 150g","Tacka 12 szt.",{"$f":"IFERROR(Tabela1[[#This Row],[KART]]*Tabela1[[#This Row],[Kolumna4]],)","v":0},2400,200,12,0,0,{"$f":"IF(Tabela1[[#This Row],[Palet]]=0,0,IF(O84>0,O84*J84,))","v":{"$error":"#REF!"}},{"$error":"#REF!"},null,5900531003103,"A"]
[null,{"$f":"SUBTOTAL(103,$C$13:C85)","v":62},107107,"Jogurt Grecki Truskawka",null,"Kubek 150g","Tacka 12 szt.",{"$f":"IFERROR(Tabela1[[#This Row],[KART]]*Tabela1[[#This Row],[Kolumna4]],)","v":0},2304,200,12,{"$f":"IF(ISERROR(H85/K85),,H85/K85)","v":0},{"$f":"IF(ISERROR(H85/I85),,H85/I85)","v":0},{"$f":"IF(Tabela1[[#This Row],[Palet]]=0,0,IF(O85>0,O85*J85,))","v":{"$error":"#VALUE!"}},{"$error":"#VALUE!"},null,5900531003202,"N"]
[null,{"$f":"SUBTOTAL(103,$C$13:C86)","v":62},107108,"Jogurt Grecki Brzoskwinia",null,"Kubek 150g","Tacka 12 szt.",{"$f":"IFERROR(Tabela1[[#This Row],[KART]]*Tabela1[[#This Row],[Kolumna4]],)","v":0},2304,200,12,0,0,{"$f":"IF(Tabela1[[#This Row],[Palet]]=0,0,IF(O86>0,O86*J86,))","v":{"$error":"#VALUE!"}},{"$error":"#VALUE!"},null,5900531003608,"N"]
[null,{"$f":"SUBTOTAL(103,$C$13:C87)","v":62},107106,"Jogurt Grecki Wiśnia",null,"Kubek 150g","Tacka 12 szt.",{"$f":"IFERROR(Tabela1[[#This Row],[KART]]*Tabela1[[#This Row],[Kolumna4]],)","v":0},2304,200,12,0,0,{"$f":"IF(Tabela1[[#This Row],[Palet]]=0,0,IF(O87>0,O87*J87,))","v":{"$error":"#VALUE!"}},{"$error":"#VALUE!"},null,5900531003615,"N"]
[null,{"$f":"SUBTOTAL(103,$C$13:C88)","v":62},107110,"Jogurt Grecki Jagoda",null,"Kubek 150g","Tacka 12 szt.",{"$f":"IFERROR(Tabela1[[#This Row],[KART]]*Tabela1[[#This Row],[Kolumna4]],)","v":0},2304,200,12,0,0,{"$f":"IF(Tabela1[[#This Row],[Palet]]=0,0,IF(O88>0,O88*J88,))","v":{"$error":"#VALUE!"}},{"$error":"#VALUE!"},null,5900531003400,"N"]
[null,{"$f":"SUBTOTAL(103,$C$13:C89)","v":62},107111,"Jogurt Grecki Malina",null,"Kubek 150g","Tacka 12 szt.",{"$f":"IFERROR(Tabela1[[#This Row],[KART]]*Tabela1[[#This Row],[Kolumna4]],)","v":0},2304,200,12,0,0,{"$f":"IF(Tabela1[[#This Row],[Palet]]=0,0,IF(O89>0,O89*J89,))","v":{"$error":"#VALUE!"}},{"$f":"IF(N89>0,N89/J89,\"-\")","v":{"$error":"#VALUE!"}},null,5900531003301,"N"]
[null,{"$f":"SUBTOTAL(103,$C$13:C90)","v":62},107112,"Jogurt Grecki Gruszka",null,"Kubek 150g","Tacka 12 szt.",{"$f":"IFERROR(Tabela1[[#This Row],[KART]]*Tabela1[[#This Row],[Kolumna4]],)","v":0},2304,200,12,0,0,{"$f":"IF(Tabela1[[#This Row],[Palet]]=0,0,IF(O90>0,O90*J90,))","v":{"$error":"#VALUE!"}},{"$error":"#VALUE!"},null,5900531003509,"N"]
[null,{"$f":"SUBTOTAL(103,$C$13:C91)","v":63},107051,"Jogurt SYR naturalny150g ","https://piatnica.com.pl/content/uploads/2020/11/skyr-naturalny-packshot-16-12-2020-5174-460x307.png","Kubek 150g","Tacka 12 szt.",{"$f":"IFERROR(Tabela1[[#This Row],[KART]]*Tabela1[[#This Row],[Kolumna4]],)","v":0},2400,200,12,0,0,{"$f":"IF(Tabela1[[#This Row],[Palet]]=0,0,IF(O91>0,O91*J91,))","v":{"$error":"#REF!"}},{"$error":"#REF!"},null,5900531004544,"A"]
[null,{"$f":"SUBTOTAL(103,$C$13:C92)","v":64},107052,"Jogurt SYR z truskawkami 150g ","https://piatnica.com.pl/content/uploads/2020/11/skyr-truskawkowy-packshot-16-12-2020-5174-460x307.png","Kubek 150g","Tacka 12 szt.",{"$f":"IFERROR(Tabela1[[#This Row],[KART]]*Tabela1[[#This Row],[Kolumna4]],)","v":0},2400,200,12,0,0,{"$f":"IF(Tabela1[[#This Row],[Palet]]=0,0,IF(O92>0,O92*J92,))","v":{"$error":"#REF!"}},{"$error":"#REF!"},null,5900531004506,"A"]
[null,{"$f":"SUBTOTAL(103,$C$13:C93)","v":65},107053,"Jogurt SYR z jagodami 150g ","https://piatnica.com.pl/content/uploads/2020/11/skyr-jagody-packshot-16-12-2020-5174-460x307.png","Kubek 150g","Tacka 12 szt.",{"$f":"IFERROR(Tabela1[[#This Row],[KART]]*Tabela1[[#This Row],[Kolumna4]],)","v":0},2400,200,12,0,0,{"$f":"IF(Tabela1[[#This Row],[Palet]]=0,0,IF(O93>0,O93*J93,))","v":{"$error":"#REF!"}},{"$error":"#REF!"},null,5900531004513,"A"]
[null,{"$f":"SUBTOTAL(103,$C$13:C94)","v":65},107054,"Jogurt SYR z brzoskwiniami 150g ",null,"Kubek 150g","Tacka 12 szt.",{"$f":"IFERROR(Tabela1[[#This Row],[KART]]*Tabela1[[#This Row],[Kolumna4]],)","v":0},2400,200,12,0,0,{"$f":"IF(Tabela1[[#This Row],[Palet]]=0,0,IF(O94>0,O94*J94,))","v":{"$error":"#VALUE!"}},{"$error":"#VALUE!"},null,5900531004520,"N"]
[null,{"$f":"SUBTOTAL(103,$C$13:C95)","v":66},107055,"Jogurt SYR waniliowy 150g ","https://piatnica.com.pl/content/uploads/2020/11/skyr-waniliowy-packshot-16-12-2020-5174-460x307.png","Kubek 150g","Tacka 12 szt.",{"$f":"IFERROR(Tabela1[[#This Row],[KART]]*Tabela1[[#This Row],[Kolumna4]],)","v":0},2400,200,12,{"$f":"IF(ISERROR(H95/K95),,H95/K95)","v":0},{"$f":"IF(ISERROR(H95/I95),,H95/I95)","v":0},{"$f":"IF(Tabela1[[#This Row],[Palet]]=0,0,IF(O95>0,O95*J95,))","v":{"$error":"#REF!"}},{"$error":"#REF!"},null,5900531004537,"A"]
[null,{"$f":"SUBTOTAL(103,$C$13:C96)","v":67},107121,"Jogurt SKYR z Mango 150g ","https://piatnica.com.pl/content/uploads/2022/09/17219-SKYR-mango-marakuja-1-460x307.png","Kubek 150g","Tacka 12 szt.",{"$f":"IFERROR(Tabela1[[#This Row],[KART]]*Tabela1[[#This Row],[Kolumna4]],)","v":0},2400,200,12,0,0,{"$f":"IF(Tabela1[[#This Row],[Palet]]=0,0,IF(O96>0,O96*J96,))","v":{"$error":"#REF!"}},{"$error":"#REF!"},null,5900531004704,"A"]
[null,{"$f":"SUBTOTAL(103,$C$13:C97)","v":68},107662,"Jogurt SKYR czekolada z wiśniami 150g ","https://piatnica.com.pl/content/uploads/2025/01/11973-SKYR-CZEK-WIS-150G-PIAT_wizualizacja-460x460.png","Kubek 150g","Tacka 12 szt.",{"$f":"IFERROR(Tabela1[[#This Row],[KART]]*Tabela1[[#This Row],[Kolumna4]],)","v":0},2400,200,12,{"$f":"IF(ISERROR(H97/K97),,H97/K97)","v":0},{"$f":"IF(ISERROR(H97/I97),,H97/I97)","v":0},{"$f":"IF(Tabela1[[#This Row],[Palet]]=0,0,IF(O97>0,O97*J97,))","v":{"$error":"#REF!"}},{"$f":"IF(N97>0,N97/J97,\"-\")","v":{"$error":"#REF!"}},null,5900531004827,"A"]
[null,{"$f":"SUBTOTAL(103,$C$13:C98)","v":69},107663,"Jogurt SKYR TIRAMISU 150G","https://piatnica.com.pl/content/uploads/2025/01/11973_SKYR-TIRAMISU-150G-PIAT_wizualizacja-460x460.png","Kubek 150g","Tacka 12 szt.",{"$f":"IFERROR(Tabela1[[#This Row],[KART]]*Tabela1[[#This Row],[Kolumna4]],)","v":0},2400,200,12,0,0,{"$f":"IF(Tabela1[[#This Row],[Palet]]=0,0,IF(O98>0,O98*J98,))","v":{"$error":"#REF!"}},{"$error":"#REF!"},null,"5900531004834","A"]
[null,{"$f":"SUBTOTAL(103,$C$13:C99)","v":70},107124,"Jogurt SKYR pomarańcza straciatella 150G","https://piatnica.com.pl/content/uploads/2025/01/11973-SKYR-POMAR-150G-PIAT_wizualizacja-460x460.png","Kubek 150g","Tacka 12 szt.",{"$f":"IFERROR(Tabela1[[#This Row],[KART]]*Tabela1[[#This Row],[Kolumna4]],)","v":0},2400,200,12,0,0,{"$f":"IF(Tabela1[[#This Row],[Palet]]=0,0,IF(O99>0,O99*J99,))","v":{"$error":"#REF!"}},{"$error":"#REF!"},null,"5900531004766","A"]
[null,{"$f":"SUBTOTAL(103,$C$13:C100)","v":71},107082,"SKYR NATURALNY 450G","https://piatnica.com.pl/content/uploads/2023/09/12742_SKYR-NATURA-450G-PIAT_wizualizacja-368x460.png","Kubek 450g","Tacka 6 szt.",{"$f":"IFERROR(Tabela1[[#This Row],[KART]]*Tabela1[[#This Row],[Kolumna4]],)","v":0},780,130,6,{"$f":"IF(ISERROR(H100/K100),,H100/K100)","v":0},{"$f":"IF(ISERROR(H100/I100),,H100/I100)","v":0},{"$f":"IF(Tabela1[[#This Row],[Palet]]=0,0,IF(O100>0,O100*J100,))","v":{"$error":"#REF!"}},{"$f":"IF(N100>0,N100/J100,\"-\")","v":{"$error":"#REF!"}},null,5900531004735,"A"]
[null,{"$f":"SUBTOTAL(103,$C$13:C101)","v":72},107083,"SKYR WANILIOWY 450G","https://piatnica.com.pl/content/uploads/2023/09/12742_SKYR-WANILIA-450G-PIAT_wizualizacja-368x460.png","Kubek 450g","Tacka 6 szt.",{"$f":"IFERROR(Tabela1[[#This Row],[KART]]*Tabela1[[#This Row],[Kolumna4]],)","v":0},780,130,6,0,0,{"$f":"IF(Tabela1[[#This Row],[Palet]]=0,0,IF(O101>0,O101*J101,))","v":{"$error":"#REF!"}},{"$error":"#REF!"},null,5900531004742,"A"]
[null,{"$f":"SUBTOTAL(103,$C$13:C102)","v":72},107086,"Jogurt KETO 150g ","https://piatnica.com.pl/content/uploads/2024/06/KETO-460x358.png","Kubek 150g","Tacka 12 szt.",{"$f":"IFERROR(Tabela1[[#This Row],[KART]]*Tabela1[[#This Row],[Kolumna4]],)","v":0},2400,200,12,{"$f":"IF(ISERROR(H102/K102),,H102/K102)","v":0},{"$f":"IF(ISERROR(H102/I102),,H102/I102)","v":0},{"$f":"IF(Tabela1[[#This Row],[Palet]]=0,0,IF(O102>0,O102*J102,))","v":{"$error":"#REF!"}},{"$error":"#REF!"},null,"5900531004971","N"]
[null,{"$f":"SUBTOTAL(103,$C$13:C103)","v":72},109113,"Serek Piątuś malinowy","https://piatnica.com.pl/content/uploads/2020/11/Piatus_malinowy_125_g-8-1-460x358.png","Kubek 125g","Tacka 20 szt.",{"$f":"IFERROR(Tabela1[[#This Row],[KART]]*Tabela1[[#This Row],[Kolumna4]],)","v":0},4000,200,20,0,0,{"$f":"IF(Tabela1[[#This Row],[Palet]]=0,0,IF(O103>0,O103*J103,))","v":{"$error":"#REF!"}},{"$error":"#REF!"},null,5900531004292,"N"]
[null,{"$f":"SUBTOTAL(103,$C$13:C104)","v":72},109114,"Serek Piątuś waniliowy","https://piatnica.com.pl/content/uploads/2020/11/Piatus_waniliowy_125_g-8-1-460x358.png","Kubek 125g","Tacka 20 szt.",{"$f":"IFERROR(Tabela1[[#This Row],[KART]]*Tabela1[[#This Row],[Kolumna4]],)","v":0},4000,200,20,0,0,{"$f":"IF(Tabela1[[#This Row],[Palet]]=0,0,IF(O104>0,O104*J104,))","v":{"$error":"#REF!"}},{"$error":"#REF!"},null,5900531003639,"N"]
[null,{"$f":"SUBTOTAL(103,$C$13:C105)","v":72},109115,"Serek Piątuś bananowy","https://piatnica.com.pl/content/uploads/2020/11/Piatus_bananowy_125_g-8-1-460x358.png","Kubek 125g","Tacka 20 szt.",{"$f":"IFERROR(Tabela1[[#This Row],[KART]]*Tabela1[[#This Row],[Kolumna4]],)","v":0},4000,200,20,0,0,{"$f":"IF(Tabela1[[#This Row],[Palet]]=0,0,IF(O105>0,O105*J105,))","v":{"$error":"#REF!"}},{"$error":"#REF!"},null,5900531003646,"N"]
[null,{"$f":"SUBTOTAL(103,$C$13:C106)","v":72},109116,"Serek Piątuś truskawkowy","https://piatnica.com.pl/content/uploads/2020/11/Piatus_truskawkowy_125_g-8-1-460x358.png","Kubek 125g","Tacka 20 szt.",{"$f":"IFERROR(Tabela1[[#This Row],[KART]]*Tabela1[[#This Row],[Kolumna4]],)","v":0},4000,200,20,0,0,{"$f":"IF(Tabela1[[#This Row],[Palet]]=0,0,IF(O106>0,O106*J106,))","v":{"$error":"#REF!"}},{"$error":"#REF!"},null,5900531003622,"N"]
[null,{"$f":"SUBTOTAL(103,$C$13:C107)","v":72},107117,"Jogurt Piątuś jagodowy",null,"Kubek 125g","Tacka 20 szt.",{"$f":"IFERROR(Tabela1[[#This Row],[KART]]*Tabela1[[#This Row],[Kolumna4]],)","v":0},3200,160,20,0,0,{"$f":"IF(Tabela1[[#This Row],[Palet]]=0,0,IF(O107>0,O107*J107,))","v":{"$error":"#VALUE!"}},{"$error":"#VALUE!"},null,"5900531004315","N"]
[null,{"$f":"SUBTOTAL(103,$C$13:C108)","v":73},664019,"SKYR PITNY 1L","https://piatnica.com.pl/content/uploads/2020/11/k_mleko1l_2_0_2021_03_01-2-460x358.png","Butelka 1L","Zgrzewka 6 szt.",{"$f":"IFERROR(Tabela1[[#This Row],[KART]]*Tabela1[[#This Row],[Kolumna4]],)","v":0},630,105,6,{"$f":"IF(ISERROR(H108/K108),,H108/K108)","v":0},{"$f":"IF(ISERROR(H108/I108),,H108/I108)","v":0},{"$f":"IF(Tabela1[[#This Row],[Palet]]=0,0,IF(O108>0,O108*J108,))","v":{"$error":"#REF!"}},{"$f":"IF(N108>0,N108/J108,\"-\")","v":{"$error":"#REF!"}},null,5901939103273,"A"]
[null,{"$f":"SUBTOTAL(103,$C$13:C109)","v":74},664010,"SKYR PITNY NATURALNY 330 ml","https://piatnica.com.pl/content/uploads/2020/11/piatnica-z-gory-skyr-naturalny-packshot-16-12-20205001-307x460.png","Butelka 330ml","Zgrzewka 12 szt.",{"$f":"IFERROR(Tabela1[[#This Row],[KART]]*Tabela1[[#This Row],[Kolumna4]],)","v":0},1764,147,12,0,0,{"$f":"IF(Tabela1[[#This Row],[Palet]]=0,0,IF(O109>0,O109*J109,))","v":{"$error":"#REF!"}},{"$error":"#REF!"},null,5901939103105,"A"]
[null,{"$f":"SUBTOTAL(103,$C$13:C110)","v":75},664011,"SKYR PITNY MANGO & MARAKUJA 330 ml","https://piatnica.com.pl/content/uploads/2020/11/piatnica-z-gory-skyr-marakuja-packshot-16-12-20205001-307x460.png","Butelka 330ml","Zgrzewka 12 szt.",{"$f":"IFERROR(Tabela1[[#This Row],[KART]]*Tabela1[[#This Row],[Kolumna4]],)","v":0},1764,147,12,0,0,{"$f":"IF(Tabela1[[#This Row],[Palet]]=0,0,IF(O110>0,O110*J110,))","v":{"$error":"#REF!"}},{"$error":"#REF!"},null,5901939103068,"A"]
[null,{"$f":"SUBTOTAL(103,$C$13:C111)","v":76},664012,"SKYR PITNY WANILIA 330 ml","https://piatnica.com.pl/content/uploads/2020/11/piatnica-z-gory-skyr-waniliowy-packshot-16-12-20205001-307x460.png","Butelka 330ml","Zgrzewka 12 szt.",{"$f":"IFERROR(Tabela1[[#This Row],[KART]]*Tabela1[[#This Row],[Kolumna4]],)","v":0},1764,147,12,0,0,{"$f":"IF(Tabela1[[#This Row],[Palet]]=0,0,IF(O111>0,O111*J111,))","v":{"$error":"#REF!"}},{"$error":"#REF!"},null,5901939103075,"A"]
[null,{"$f":"SUBTOTAL(103,$C$13:C112)","v":76},664013,"SKYR PITNY TRUSKAWKA 330 ml",null,"Butelka 330ml","Zgrzewka 12 szt.",{"$f":"IFERROR(Tabela1[[#This Row],[KART]]*Tabela1[[#This Row],[Kolumna4]],)","v":0},1764,147,12,0,0,{"$f":"IF(Tabela1[[#This Row],[Palet]]=0,0,IF(O112>0,O112*J112,))","v":{"$error":"#VALUE!"}},{"$error":"#VALUE!"},null,5901939103082,"N"]
[null,{"$f":"SUBTOTAL(103,$C$13:C113)","v":77},664014,"SKYR PITNY JAGODA 330 ml","https://piatnica.com.pl/content/uploads/2020/11/piatnica-z-gory-skyr-jagodowy-packshot-16-12-20205001-307x460.png","Butelka 330ml","Zgrzewka 12 szt.",{"$f":"IFERROR(Tabela1[[#This Row],[KART]]*Tabela1[[#This Row],[Kolumna4]],)","v":0},1764,147,12,0,0,{"$f":"IF(Tabela1[[#This Row],[Palet]]=0,0,IF(O113>0,O113*J113,))","v":{"$error":"#REF!"}},{"$error":"#REF!"},null,5901939103099,"A"]
[null,{"$f":"SUBTOTAL(103,$C$13:C114)","v":78},664015,"SKYR PITNY TRUSKAWKA KIWI 330 ml","https://piatnica.com.pl/content/uploads/2020/11/piatnica-z-gory-skyr-kiwi-packshot-16-12-20205001-307x460.png","Butelka 330ml","Zgrzewka 12 szt.",{"$f":"IFERROR(Tabela1[[#This Row],[KART]]*Tabela1[[#This Row],[Kolumna4]],)","v":0},1764,147,12,0,0,{"$f":"IF(Tabela1[[#This Row],[Palet]]=0,0,IF(O114>0,O114*J114,))","v":{"$error":"#REF!"}},{"$error":"#REF!"},null,5901939103235,"A"]
[null,{"$f":"SUBTOTAL(103,$C$13:C115)","v":79},664021,"SKYR PITNY  WIŚNIA 330 ml","https://piatnica.com.pl/content/uploads/2024/09/Skyr-pitny-wisnia-1-307x460.png","Butelka 330ml","Zgrzewka 12 szt.",{"$f":"IFERROR(Tabela1[[#This Row],[KART]]*Tabela1[[#This Row],[Kolumna4]],)","v":0},1764,147,12,{"$f":"IF(ISERROR(H115/K115),,H115/K115)","v":0},{"$f":"IF(ISERROR(H115/I115),,H115/I115)","v":0},{"$f":"IF(Tabela1[[#This Row],[Palet]]=0,0,IF(O115>0,O115*J115,))","v":{"$error":"#REF!"}},{"$f":"IF(N115>0,N115/J115,\"-\")","v":{"$error":"#REF!"}},null,5901939103402,"A"]
[null,{"$f":"SUBTOTAL(103,$C$13:C116)","v":80},664018,"SKYR PITNY LIMONKA MIĘTA 330 ml","https://piatnica.com.pl/content/uploads/2025/01/limonka-z-nta-miety-330-ml-307x460.png","Butelka 330ml","Zgrzewka 12 szt.",{"$f":"IFERROR(Tabela1[[#This Row],[KART]]*Tabela1[[#This Row],[Kolumna4]],)","v":0},1764,147,12,0,0,{"$f":"IF(Tabela1[[#This Row],[Palet]]=0,0,IF(O116>0,O116*J116,))","v":{"$error":"#VALUE!"}},{"$error":"#VALUE!"},null,5901939103389,"A"]
[null,{"$f":"SUBTOTAL(103,$C$13:C117)","v":81},664026,"SKYR PITNY KOKOS ANANAS 330 ml","https://piatnica.com.pl/content/uploads/2024/09/Skyr-pitny-kokos-ananas-1-307x460.png","Butelka 330ml","Zgrzewka 12 szt.",{"$f":"IFERROR(Tabela1[[#This Row],[KART]]*Tabela1[[#This Row],[Kolumna4]],)","v":0},1764,147,12,0,0,{"$f":"IF(Tabela1[[#This Row],[Palet]]=0,0,IF(O117>0,O117*J117,))","v":{"$error":"#REF!"}},{"$error":"#REF!"},null,5901939103419,"A"]
[null,{"$f":"SUBTOTAL(103,$C$13:C118)","v":82},664027,"SKYR PITNY NEKTARYNKA MALINA 330 ml","https://piatnica.com.pl/content/uploads/2024/09/Skyr-pitny-nekarynka-malina-307x460.png","Butelka 330ml","Zgrzewka 12 szt.",{"$f":"IFERROR(Tabela1[[#This Row],[KART]]*Tabela1[[#This Row],[Kolumna4]],)","v":0},1764,147,12,0,0,{"$f":"IF(Tabela1[[#This Row],[Palet]]=0,0,IF(O118>0,O118*J118,))","v":{"$error":"#REF!"}},{"$error":"#REF!"},null,5901939103372,"A"]
[null,{"$f":"SUBTOTAL(103,$C$13:C119)","v":83},664025,"SKYR PITNY WANILIA - STRACIATELLA  330 ml",null,"Butelka 330ml","Zgrzewka 12 szt.",{"$f":"IFERROR(Tabela1[[#This Row],[KART]]*Tabela1[[#This Row],[Kolumna4]],)","v":0},1764,147,12,{"$f":"IF(ISERROR(H119/K119),,H119/K119)","v":0},{"$f":"IF(ISERROR(H119/I119),,H119/I119)","v":0},{"$f":"IF(Tabela1[[#This Row],[Palet]]=0,0,IF(O119>0,O119*J119,))","v":{"$error":"#REF!"}},{"$f":"IF(N119>0,N119/J119,\"-\")","v":{"$error":"#REF!"}},null,5901939103334,"A"]
[null,{"$f":"SUBTOTAL(103,$C$13:C120)","v":84},668010,"Mleko Wiejskie 2%","https://piatnica.com.pl/content/uploads/2020/11/k_mleko1l_2_0_2021_03_01-2-460x358.png","Butelka 1L","Zgrzewka 6 szt.",{"$f":"IFERROR(Tabela1[[#This Row],[KART]]*Tabela1[[#This Row],[Kolumna4]],)","v":0},630,105,6,0,0,{"$f":"IF(Tabela1[[#This Row],[Palet]]=0,0,IF(O120>0,O120*J120,))","v":{"$error":"#REF!"}},{"$error":"#REF!"},null,5901939000770,"A"]
[null,{"$f":"SUBTOTAL(103,$C$13:C121)","v":85},668011,"Mleko Wiejskie 3,2%","https://piatnica.com.pl/content/uploads/2020/11/k_mleko1l_3_2_2021_03_01-1-460x358.png","Butelka 1L","Zgrzewka 6 szt.",{"$f":"IFERROR(Tabela1[[#This Row],[KART]]*Tabela1[[#This Row],[Kolumna4]],)","v":0},630,105,6,0,0,{"$f":"IF(Tabela1[[#This Row],[Palet]]=0,0,IF(O121>0,O121*J121,))","v":{"$error":"#REF!"}},{"$error":"#REF!"},null,5901939000794,"A"]
[null,{"$f":"SUBTOTAL(103,$C$13:C122)","v":86},668015,"Mleko do Kawy ","https://piatnica.com.pl/content/uploads/2023/03/Mleko_500ml_bok-460x358.png","Butelka 0,5L","Zgrzewka 6 szt.",{"$f":"IFERROR(Tabela1[[#This Row],[KART]]*Tabela1[[#This Row],[Kolumna4]],)","v":0},{"$f":"Tabela1[[#This Row],[Kolumna3]]*6","v":1056},176,6,{"$f":"IF(ISERROR(H122/K122),,H122/K122)","v":0},{"$f":"IF(ISERROR(H122/I122),,H122/I122)","v":0},{"$f":"IF(Tabela1[[#This Row],[Palet]]=0,0,IF(O122>0,O122*J122,))","v":{"$error":"#REF!"}},{"$f":"IF(N122>0,N122/J122,\"-\")","v":{"$error":"#REF!"}},null,5901939002323,"A"]
[null,{"$f":"SUBTOTAL(103,$C$13:C123)","v":87},668012,"Mleko BIO","https://piatnica.com.pl/content/uploads/2020/11/Mleko_ekologiczne_BIO_1_l-460x358.png","Butelka 1L","Zgrzewka 6 szt.",{"$f":"IFERROR(Tabela1[[#This Row],[KART]]*Tabela1[[#This Row],[Kolumna4]],)","v":0},630,105,6,0,0,{"$f":"IF(Tabela1[[#This Row],[Palet]]=0,0,IF(O123>0,O123*J123,))","v":{"$error":"#REF!"}},{"$error":"#REF!"},null,5901939002002,"A"]
[null,{"$f":"SUBTOTAL(103,$C$13:C124)","v":88},668013,"Wiejskie BEZ LAKTOZY 2%","https://piatnica.com.pl/content/uploads/2020/11/mleko-4-460x358.png","Butelka 1L","Zgrzewka 6 szt.",{"$f":"IFERROR(Tabela1[[#This Row],[KART]]*Tabela1[[#This Row],[Kolumna4]],)","v":0},630,105,6,0,0,{"$f":"IF(Tabela1[[#This Row],[Palet]]=0,0,IF(O124>0,O124*J124,))","v":{"$error":"#REF!"}},{"$error":"#REF!"},null,5901939002019,"A"]
[null,{"$f":"SUBTOTAL(103,$C$13:C125)","v":88},663001,"Mleko UHT 2%",null,"Butelka 1L","Zgrzewka 6 szt.",{"$f":"IFERROR(Tabela1[[#This Row],[KART]]*Tabela1[[#This Row],[Kolumna4]],)","v":0},630,105,12,0,0,{"$f":"IF(Tabela1[[#This Row],[Palet]]=0,0,IF(O125>0,O125*J125,))","v":{"$error":"#VALUE!"}},{"$error":"#VALUE!"},null,"5901939004082","N"]
[null,{"$f":"SUBTOTAL(103,$C$13:C126)","v":88},663002,"Mleko UHT 3,2%",null,"Butelka 1L","Zgrzewka 6 szt.",{"$f":"IFERROR(Tabela1[[#This Row],[KART]]*Tabela1[[#This Row],[Kolumna4]],)","v":0},630,105,12,0,0,{"$f":"IF(Tabela1[[#This Row],[Palet]]=0,0,IF(O126>0,O126*J126,))","v":{"$error":"#VALUE!"}},{"$error":"#VALUE!"},null,"5901939004099","N"]
[null,{"$f":"SUBTOTAL(103,$C$13:C127)","v":88},663021,"MLEKO BIO UHT 2,5% 1l",null,"Butelka 1L","Zgrzewka 6 szt.",{"$f":"IFERROR(Tabela1[[#This Row],[KART]]*Tabela1[[#This Row],[Kolumna4]],)","v":0},630,105,12,0,0,{"$f":"IF(Tabela1[[#This Row],[Palet]]=0,0,IF(O127>0,O127*J127,))","v":{"$error":"#VALUE!"}},{"$error":"#VALUE!"},null,"5901939004112","N"]
[null,{"$f":"SUBTOTAL(103,$C$13:C128)","v":88},663022,"BEZ LAKTOZY UHT 1,5% 1l",null,"Butelka 1L","Zgrzewka 6 szt.",{"$f":"IFERROR(Tabela1[[#This Row],[KART]]*Tabela1[[#This Row],[Kolumna4]],)","v":0},630,105,12,0,0,{"$f":"IF(Tabela1[[#This Row],[Palet]]=0,0,IF(O128>0,O128*J128,))","v":{"$error":"#VALUE!"}},{"$error":"#VALUE!"},null,"5901939004105","N"]
[null,{"$f":"SUBTOTAL(103,$C$13:C129)","v":88},663028,"MLEKO UHT DO KAWY 3,2% 1L",null,"Butelka 1L","Zgrzewka 6 szt.",{"$f":"IFERROR(Tabela1[[#This Row],[KART]]*Tabela1[[#This Row],[Kolumna4]],)","v":0},630,105,6,0,0,{"$f":"IF(Tabela1[[#This Row],[Palet]]=0,0,IF(O129>0,O129*J129,))","v":{"$error":"#VALUE!"}},{"$error":"#VALUE!"},null,"5901939004181","N"]
[null,{"$f":"SUBTOTAL(103,$C$13:C130)","v":88},663004,"Mleko czekoladowe 330ml",null,"Butelka 330ml","Zgrzewka 12 szt.",{"$f":"IFERROR(Tabela1[[#This Row],[KART]]*Tabela1[[#This Row],[Kolumna4]],)","v":0},2016,168,12,0,0,{"$f":"IF(Tabela1[[#This Row],[Palet]]=0,0,IF(O130>0,O130*J130,))","v":{"$error":"#VALUE!"}},{"$error":"#VALUE!"},null,5901939003016,"N"]
[null,{"$f":"SUBTOTAL(103,$C$13:C131)","v":88},663005,"Mleko waniliowe 330ml",null,"Butelka 330ml","Zgrzewka 12 szt.",{"$f":"IFERROR(Tabela1[[#This Row],[KART]]*Tabela1[[#This Row],[Kolumna4]],)","v":0},2016,168,12,0,0,{"$f":"IF(Tabela1[[#This Row],[Palet]]=0,0,IF(O131>0,O131*J131,))","v":{"$error":"#VALUE!"}},{"$error":"#VALUE!"},null,5901939003023,"N"]
[null,{"$f":"SUBTOTAL(103,$C$13:C132)","v":88},663006,"Mleko truskawkowe 330ml",null,"Butelka 330ml","Zgrzewka 12 szt.",{"$f":"IFERROR(Tabela1[[#This Row],[KART]]*Tabela1[[#This Row],[Kolumna4]],)","v":0},2016,168,12,0,0,{"$f":"IF(Tabela1[[#This Row],[Palet]]=0,0,IF(O132>0,O132*J132,))","v":{"$error":"#VALUE!"}},{"$error":"#VALUE!"},null,5901939003030,"N"]
[null,{"$f":"SUBTOTAL(103,$C$13:C133)","v":88},663007,"Mleko bananowe 330ml",null,"Butelka 330ml","Zgrzewka 12 szt.",{"$f":"IFERROR(Tabela1[[#This Row],[KART]]*Tabela1[[#This Row],[Kolumna4]],)","v":0},2016,168,12,0,0,{"$f":"IF(Tabela1[[#This Row],[Palet]]=0,0,IF(O133>0,O133*J133,))","v":{"$error":"#VALUE!"}},{"$error":"#VALUE!"},null,5901939003047,"N"]
[null,{"$f":"SUBTOTAL(103,$C$13:C134)","v":88},663020,"Mleko z Belgijską Czekoladą 330ml",null,"Butelka 330ml","Zgrzewka 12 szt.",{"$f":"IFERROR(Tabela1[[#This Row],[KART]]*Tabela1[[#This Row],[Kolumna4]],)","v":0},2016,168,12,0,0,{"$f":"IF(Tabela1[[#This Row],[Palet]]=0,0,IF(O134>0,O134*J134,))","v":{"$error":"#VALUE!"}},{"$error":"#VALUE!"},null,"5901939003207","N"]
[null,{"$f":"SUBTOTAL(103,$C$13:C135)","v":88},663021,"Mleko kokosowo migdałowe 330ml",null,"Butelka 330ml","Zgrzewka 12 szt.",{"$f":"IFERROR(Tabela1[[#This Row],[KART]]*Tabela1[[#This Row],[Kolumna4]],)","v":0},630,105,12,0,0,{"$f":"IF(Tabela1[[#This Row],[Palet]]=0,0,IF(O135>0,O135*J135,))","v":{"$error":"#VALUE!"}},{"$error":"#VALUE!"},null,"5901939003214","N"]
[null,{"$f":"SUBTOTAL(103,$C$13:C136)","v":88},664020,"Maslanka",null,"Butelka 1L","Zgrzewka 6 szt.",{"$f":"IFERROR(Tabela1[[#This Row],[KART]]*Tabela1[[#This Row],[Kolumna4]],)","v":0},630,105,6,0,0,{"$f":"IF(Tabela1[[#This Row],[Palet]]=0,0,IF(O136>0,O136*J136,))","v":{"$error":"#VALUE!"}},{"$error":"#VALUE!"},null,"5901939003009","N"]
[null,{"$f":"SUBTOTAL(103,$C$13:C137)","v":89},660020,"Masło EXTRA","https://piatnica.com.pl/content/uploads/2020/11/karta-produktu-maslo-460x358.png","Kostka 200g","Karton 30 szt.",{"$f":"IFERROR(Tabela1[[#This Row],[KART]]*Tabela1[[#This Row],[Kolumna4]],)","v":0},3300,110,30,0,0,{"$f":"IF(Tabela1[[#This Row],[Palet]]=0,0,IF(O137>0,O137*J137,))","v":{"$error":"#REF!"}},{"$error":"#REF!"},null,5901939030012,"A"]
[null,{"$f":"SUBTOTAL(103,$C$13:C138)","v":90},660003,"Śmietankowy SMAK z Ostrołęki","https://piatnica.com.pl/content/uploads/2020/11/maslo-1-460x358.png","Kostka 200g","Karton 30 szt.",{"$f":"IFERROR(Tabela1[[#This Row],[KART]]*Tabela1[[#This Row],[Kolumna4]],)","v":0},3300,110,30,0,0,{"$f":"IF(Tabela1[[#This Row],[Palet]]=0,0,IF(O138>0,O138*J138,))","v":{"$error":"#REF!"}},{"$error":"#REF!"},null,5901939000404,"A"]
[null,{"$f":"SUBTOTAL(103,$C$13:C139)","v":91},661001,"KOKTAJL MANGO MARAKUJA","https://piatnica.com.pl/content/uploads/2020/11/mango2-460x358.png","Butelka 250g ","Zgrzewka 12 szt.",{"$f":"IFERROR(Tabela1[[#This Row],[KART]]*Tabela1[[#This Row],[Kolumna4]],)","v":0},2304,192,12,0,0,{"$f":"IF(Tabela1[[#This Row],[Palet]]=0,0,IF(O139>0,O139*J139,))","v":{"$error":"#REF!"}},{"$error":"#REF!"},null,5901939006031,"A"]
[null,{"$f":"SUBTOTAL(103,$C$13:C140)","v":92},661002,"KOKTAJL MALINA GRANAT","https://piatnica.com.pl/content/uploads/2020/11/malina2-1-460x358.png","Butelka 250g ","Zgrzewka 12 szt.",{"$f":"IFERROR(Tabela1[[#This Row],[KART]]*Tabela1[[#This Row],[Kolumna4]],)","v":0},2304,192,12,{"$f":"IF(ISERROR(H140/K140),,H140/K140)","v":0},{"$f":"IF(ISERROR(H140/I140),,H140/I140)","v":0},{"$f":"IF(Tabela1[[#This Row],[Palet]]=0,0,IF(O140>0,O140*J140,))","v":{"$error":"#REF!"}},{"$error":"#REF!"},null,5901939006017,"A"]
[null,{"$f":"SUBTOTAL(103,$C$13:C141)","v":93},661004,"KOKTAJL TRUSKAWKA BANAN","https://piatnica.com.pl/content/uploads/2020/11/truskawka2-460x358.png","Butelka 250g ","Zgrzewka 12 szt.",{"$f":"IFERROR(Tabela1[[#This Row],[KART]]*Tabela1[[#This Row],[Kolumna4]],)","v":0},2304,192,12,0,0,{"$f":"IF(Tabela1[[#This Row],[Palet]]=0,0,IF(O141>0,O141*J141,))","v":{"$error":"#REF!"}},{"$error":"#REF!"},null,5901939006048,"A"]
[null,{"$f":"SUBTOTAL(103,$C$13:C142)","v":94},665003,"PIATNICA ROSLINNA OWSIANA 1l","https://piatnica.com.pl/content/uploads/2022/01/owsiane-1-460x358-1.png","Butelka 1L","Zgrzewka 6 szt.",{"$f":"IFERROR(Tabela1[[#This Row],[KART]]*Tabela1[[#This Row],[Kolumna4]],)","v":0},630,105,6,0,0,{"$f":"IF(Tabela1[[#This Row],[Palet]]=0,0,IF(O142>0,O142*J142,))","v":{"$error":"#REF!"}},{"$error":"#REF!"},null,5901939105000,"A"]
[null,{"$f":"SUBTOTAL(103,$C$13:C143)","v":94},665004,"PIATNICA ROSLINNA SOJOWA 1l",null,"Butelka 1L","Zgrzewka 6 szt.",{"$f":"IFERROR(Tabela1[[#This Row],[KART]]*Tabela1[[#This Row],[Kolumna4]],)","v":0},630,105,6,0,0,{"$f":"IF(Tabela1[[#This Row],[Palet]]=0,0,IF(O143>0,O143*J143,))","v":{"$error":"#VALUE!"}},{"$f":"IF(N143>0,N143/J143,\"-\")","v":{"$error":"#VALUE!"}},null,5901939105062,"N"]
[null,{"$f":"SUBTOTAL(103,$C$13:C144)","v":94},665005,"PIATNICA ROSLINNA RYZOWA 1l",null,"Butelka 1L","Zgrzewka 6 szt.",{"$f":"IFERROR(Tabela1[[#This Row],[KART]]*Tabela1[[#This Row],[Kolumna4]],)","v":0},630,105,6,0,0,{"$f":"IF(Tabela1[[#This Row],[Palet]]=0,0,IF(O144>0,O144*J144,))","v":{"$error":"#VALUE!"}},{"$f":"IF(N144>0,N144/J144,\"-\")","v":{"$error":"#VALUE!"}},null,5901939105024,"N"]
[null,{"$f":"SUBTOTAL(103,$C$13:C145)","v":95},665006,"PIATNICA ROSLINNA MIGDALOWA 1l","https://piatnica.com.pl/content/uploads/2023/04/owsiane-1-460x358-2.png","Butelka 1L","Zgrzewka 6 szt.",{"$f":"IFERROR(Tabela1[[#This Row],[KART]]*Tabela1[[#This Row],[Kolumna4]],)","v":0},630,105,6,0,0,{"$f":"IF(Tabela1[[#This Row],[Palet]]=0,0,IF(O145>0,O145*J145,))","v":{"$error":"#VALUE!"}},{"$f":"IF(N145>0,N145/J145,\"-\")","v":{"$error":"#VALUE!"}},null,5901939105086,"A"]
[null,null,null,"Liczba zamówionych pozycji",null,null,{"$f":"COUNT(N13:N138)","v":0},{"$f":"IFERROR(Tabela1[[#This Row],[KART]]*Tabela1[[#This Row],[Kolumna4]],)","v":0},null,null,null,null,{"$f":"SUM(H13:H145)","v":0},{"$f":"IF(Tabela1[[#This Row],[Palet]]=0,0,IF(O146>0,O146*J146,))","v":0},{"$f":"SUM(M13:M145)","v":0}]
[null,null,null,null,null,null,null,{"$f":"IFERROR(Tabela1[[#This Row],[KART]]*Tabela1[[#This Row],[Kolumna4]],)","v":0},null,null,null,null,null,{"$f":"IF(Tabela1[[#This Row],[Palet]]=0,0,IF(O147>0,O147*J147,))","v":0}]
[null,"ZAMÓWIENIE HoReCa",null,null,null,null,null,{"$f":"IFERROR(Tabela1[[#This Row],[KART]]*Tabela1[[#This Row],[Kolumna4]],)","v":0},null,null,null,null,null,{"$f":"IF(Tabela1[[#This Row],[Palet]]=0,0,IF(O148>0,O148*J148,))","v":0}]
[null,null,null,null,null,null,null,{"$f":"IFERROR(Tabela1[[#This Row],[KART]]*Tabela1[[#This Row],[Kolumna4]],)","v":0},null,null,null,null,null,{"$f":"IF(Tabela1[[#This Row],[Palet]]=0,0,IF(O149>0,O149*J149,))","v":0}]
[null,{"$f":"SUBTOTAL(103,$C$150:C150)+$B$142","v":95},104532,"Twój Smak HoReCa 1kg","https://piatnica.com.pl/content/uploads/2020/11/Serek_Twoj_Smak_naturalny_1_kg-460x358.png","Wiaderko 1kg","Karton 6 szt.",{"$f":"IFERROR(Tabela1[[#This Row],[KART]]*Tabela1[[#This Row],[Kolumna4]],)","v":0},594,99,6,{"$f":"IF(ISERROR(H150/K150),,H150/K150)","v":0},{"$f":"IF(ISERROR(H150/I150),,H150/I150)","v":0},{"$f":"IF(Tabela1[[#This Row],[Palet]]=0,0,IF(O150>0,O150*J150,))","v":{"$error":"#REF!"}},{"$f":"IF(N150>0,N150/J150,\"-\")","v":{"$error":"#REF!"}},null,5900531000904,"A"]
[null,{"$f":"SUBTOTAL(103,$C$150:C151)+$B$142","v":96},104561,"Twój Smak do SUSHI 1kg","https://piatnica.com.pl/content/uploads/2020/11/Serek_smietankowy_do_sushi_1_kg-1-460x358.png","Wiaderko 1kg","Karton 6 szt.",{"$f":"IFERROR(Tabela1[[#This Row],[KART]]*Tabela1[[#This Row],[Kolumna4]],)","v":0},594,99,6,{"$f":"IF(ISERROR(H151/K151),,H151/K151)","v":0},{"$f":"IF(ISERROR(H151/I151),,H151/I151)","v":0},{"$f":"IF(Tabela1[[#This Row],[Palet]]=0,0,IF(O151>0,O151*J151,))","v":{"$error":"#REF!"}},{"$error":"#REF!"},null,5900531000997,"A"]
[null,{"$f":"SUBTOTAL(103,$C$150:C152)+$B$142","v":97},104039,"Serek kremowy 5kg","https://piatnica.com.pl/content/uploads/2022/12/Serek-kremowy_5kg-460x358.png","Wiaderko 5kg",null,{"$f":"IFERROR(Tabela1[[#This Row],[KART]]*Tabela1[[#This Row],[Kolumna4]],)","v":0},60,60,1,{"$f":"IF(ISERROR(H152/K152),,H152/K152)","v":0},{"$f":"IF(ISERROR(H152/I152),,H152/I152)","v":0},{"$f":"IF(Tabela1[[#This Row],[Palet]]=0,0,IF(O152>0,O152*J152,))","v":{"$error":"#REF!"}},{"$f":"IF(N152>0,N152/J152,\"-\")","v":{"$error":"#REF!"}},null,5900531001802,"A"]
[null,{"$f":"SUBTOTAL(103,$C$150:C153)+$B$142","v":98},104014,"Twój Smak HoReCa 5kg","https://piatnica.com.pl/content/uploads/2020/11/Twoj_smak_naturalny_5_kg-460x358.png","Wiaderko 5kg",null,{"$f":"IFERROR(Tabela1[[#This Row],[KART]]*Tabela1[[#This Row],[Kolumna4]],)","v":0},60,60,1,0,0,{"$f":"IF(Tabela1[[#This Row],[Palet]]=0,0,IF(O153>0,O153*J153,))","v":{"$error":"#REF!"}},{"$error":"#REF!"},null,5900531001413,"A"]
[null,{"$f":"SUBTOTAL(103,$C$150:C154)+$B$142","v":98},104015,"Twój Smak HoReCa 5kg",null,"Wiaderko 5kg",null,{"$f":"IFERROR(Tabela1[[#This Row],[KART]]*Tabela1[[#This Row],[Kolumna4]],)","v":0},4320,432,12,0,0,{"$f":"IF(Tabela1[[#This Row],[Palet]]=0,0,IF(O154>0,O154*J154,))","v":{"$error":"#VALUE!"}},{"$error":"#VALUE!"},null,0,"N"]
[null,{"$f":"SUBTOTAL(103,$C$150:C155)+$B$142","v":99},103055,"Serek wiejski 3kg","https://piatnica.com.pl/content/uploads/2020/11/serek-wiejski-3kg-460x358.png","Wiaderko 3kg",null,{"$f":"IFERROR(Tabela1[[#This Row],[KART]]*Tabela1[[#This Row],[Kolumna4]],)","v":0},100,100,1,0,0,{"$f":"IF(Tabela1[[#This Row],[Palet]]=0,0,IF(O155>0,O155*J155,))","v":{"$error":"#VALUE!"}},{"$error":"#VALUE!"},null,"5900531050022","A"]
[null,{"$f":"SUBTOTAL(103,$C$150:C156)+$B$142","v":100},107050,"Jogurt 2% HoReCa 1kg","https://piatnica.com.pl/content/uploads/2020/11/10353_10359_NATUR-JOG-1KG-PIAT_wizualizacja_2160x1680px-358x460.png","Wiaderko 1kg","Tacka 6 szt.",{"$f":"IFERROR(Tabela1[[#This Row],[KART]]*Tabela1[[#This Row],[Kolumna4]],)","v":0},594,99,6,0,0,{"$f":"IF(Tabela1[[#This Row],[Palet]]=0,0,IF(O156>0,O156*J156,))","v":{"$error":"#REF!"}},{"$f":"IF(N156>0,N156/J156,\"-\")","v":{"$error":"#REF!"}},null,5900531001673,"A"]
[null,{"$f":"SUBTOTAL(103,$C$150:C157)+$B$142","v":101},107003,"Jogurt 2% wiaderko","https://piatnica.com.pl/content/uploads/2020/11/Jogurt_naturalny_2_10_l-460x358.png","Wiaderko 5kg",null,null,60,60,1,0,0,{"$f":"IF(Tabela1[[#This Row],[Palet]]=0,0,IF(O157>0,O157*J157,))","v":{"$error":"#REF!"}},{"$error":"#REF!"},null,5900531001642,"A"]
[null,{"$f":"SUBTOTAL(103,$C$150:C158)+$B$142","v":102},107081,"Jogurt Truskawkowy 3kg","https://piatnica.com.pl/content/uploads/2020/11/Jogurt_naturalny_2_10_l-460x358.png","Wiaderko 3kg",null,null,100,100,1,{"$f":"IF(ISERROR(H158/K158),,H158/K158)","v":0},{"$f":"IF(ISERROR(H158/I158),,H158/I158)","v":0},{"$f":"IF(Tabela1[[#This Row],[Palet]]=0,0,IF(O158>0,O158*J158,))","v":{"$error":"#REF!"}},{"$f":"IF(N158>0,N158/J158,\"-\")","v":{"$error":"#REF!"}},null,5900531008061,"A"]
[null,{"$f":"SUBTOTAL(103,$C$150:C159)+$B$142","v":103},107070,"Jogurt naturalny100g","https://piatnica.com.pl/content/uploads/2020/11/Jogurt-100g-naturalny-460x423.png","Kubek 100g","Tacka 20 szt.",{"$f":"IFERROR(Tabela1[[#This Row],[KART]]*Tabela1[[#This Row],[Kolumna4]],)","v":0},4000,200,20,0,0,{"$f":"IF(Tabela1[[#This Row],[Palet]]=0,0,IF(O159>0,O159*J159,))","v":{"$error":"#REF!"}},{"$error":"#REF!"},null,5900531008054,"A"]
[null,{"$f":"SUBTOTAL(103,$C$150:C160)+$B$142","v":104},107071,"Jogurt owocowy MIX 20 x 100g","https://piatnica.com.pl/content/uploads/2020/11/Jogurt-100g-truskawka-460x423.png","Kubek 100g","Tacka 20 szt.",{"$f":"IFERROR(Tabela1[[#This Row],[KART]]*Tabela1[[#This Row],[Kolumna4]],)","v":0},200,200,1,0,0,{"$f":"IF(Tabela1[[#This Row],[Palet]]=0,0,IF(O160>0,O160*J160,))","v":{"$error":"#REF!"}},{"$error":"#REF!"},null,5900531108990,"A"]
[null,{"$f":"SUBTOTAL(103,$C$150:C161)+$B$142","v":105},107063,"JOGURT SKYR NATURALNY 0% 5kg","https://piatnica.com.pl/content/uploads/2020/11/Twarog_sernikowy_5kg-460x358.png","Wiaderko 5kg",null,{"$f":"IFERROR(Tabela1[[#This Row],[KART]]*Tabela1[[#This Row],[Kolumna4]],)","v":0},60,60,1,{"$f":"IF(ISERROR(H161/K161),,H161/K161)","v":0},{"$f":"IF(ISERROR(H161/I161),,H161/I161)","v":0},{"$f":"IF(Tabela1[[#This Row],[Palet]]=0,0,IF(O161>0,O161*J161,))","v":{"$error":"#REF!"}},{"$f":"IF(N161>0,N161/J161,\"-\")","v":{"$error":"#REF!"}},null,"5900531004995","A"]
[null,{"$f":"SUBTOTAL(103,$C$150:C162)+$B$142","v":106},106007,"Mascarpone 5kg","https://piatnica.com.pl/content/uploads/2020/11/Mascarpone_5_kg-1-460x358.png","Wiaderko 5kg",null,{"$f":"IFERROR(Tabela1[[#This Row],[KART]]*Tabela1[[#This Row],[Kolumna4]],)","v":0},60,60,1,0,0,{"$f":"IF(Tabela1[[#This Row],[Palet]]=0,0,IF(O162>0,O162*J162,))","v":{"$error":"#REF!"}},{"$error":"#REF!"},null,5900531001482,"A"]
[null,{"$f":"SUBTOTAL(103,$C$150:C163)+$B$142","v":107},106011,"Mascarpone 3kg","https://piatnica.com.pl/content/uploads/2020/11/Mascarpone_3_kg-1-460x356.png","Wiaderko 3kg",null,{"$f":"IFERROR(Tabela1[[#This Row],[KART]]*Tabela1[[#This Row],[Kolumna4]],)","v":0},100,100,1,0,0,{"$f":"IF(Tabela1[[#This Row],[Palet]]=0,0,IF(O163>0,O163*J163,))","v":{"$error":"#REF!"}},{"$error":"#REF!"},null,5900531001765,"A"]
[null,{"$f":"SUBTOTAL(103,$C$150:C164)+$B$142","v":108},105015,"Twaróg Sernikowy 5kg","https://piatnica.com.pl/content/uploads/2020/11/Twarog_sernikowy_5kg-460x358.png","Wiaderko 5kg",null,{"$f":"IFERROR(Tabela1[[#This Row],[KART]]*Tabela1[[#This Row],[Kolumna4]],)","v":0},60,60,1,0,0,{"$f":"IF(Tabela1[[#This Row],[Palet]]=0,0,IF(O164>0,O164*J164,))","v":{"$error":"#REF!"}},{"$error":"#REF!"},null,5900531004186,"A"]
[null,{"$f":"SUBTOTAL(103,$C$150:C165)+$B$142","v":109},105014,"Twaróg do wypieków 5kg","https://piatnica.com.pl/content/uploads/2020/11/Twarog_sernikowy_5kg-460x358.png","Wiaderko 5kg",null,{"$f":"IFERROR(Tabela1[[#This Row],[KART]]*Tabela1[[#This Row],[Kolumna4]],)","v":0},60,60,1,{"$f":"IF(ISERROR(H165/K165),,H165/K165)","v":0},{"$f":"IF(ISERROR(H165/I165),,H165/I165)","v":0},{"$f":"IF(Tabela1[[#This Row],[Palet]]=0,0,IF(O165>0,O165*J165,))","v":{"$error":"#REF!"}},{"$f":"IF(N165>0,N165/J165,\"-\")","v":{"$error":"#REF!"}},null,5900531004148,"A"]
[null,{"$f":"SUBTOTAL(103,$C$150:C166)+$B$142","v":110},102013,"Śmietanka 12% wiaderka","https://piatnica.com.pl/content/uploads/2020/11/Smietana_12_1_kg-1-460x358.png","Wiaderko 10kg",null,{"$f":"IFERROR(Tabela1[[#This Row],[KART]]*Tabela1[[#This Row],[Kolumna4]],)","v":0},360,36,10,0,0,{"$f":"IF(Tabela1[[#This Row],[Palet]]=0,0,IF(O166>0,O166*J166,))","v":{"$error":"#REF!"}},{"$error":"#REF!"},null,5900531001321,"A"]
[null,{"$f":"SUBTOTAL(103,$C$150:C167)+$B$142","v":111},102503,"Smietana 12% HoReCa 1kg","https://piatnica.com.pl/content/uploads/2020/11/Smietana_12_1_kg-1-460x358.png","Wiaderko 1kg","Tacka 6 szt.",{"$f":"IFERROR(Tabela1[[#This Row],[KART]]*Tabela1[[#This Row],[Kolumna4]],)","v":0},594,99,6,0,0,{"$f":"IF(Tabela1[[#This Row],[Palet]]=0,0,IF(O167>0,O167*J167,))","v":{"$error":"#REF!"}},{"$error":"#REF!"},null,5900531001598,"A"]
[null,{"$f":"SUBTOTAL(103,$C$150:C168)+$B$142","v":112},102515,"Śmietanka 18% wiaderka 3kg","https://piatnica.com.pl/content/uploads/2020/11/Smietana_18-3-kg-460x358.png","Wiaderko 3kg",null,{"$f":"IFERROR(Tabela1[[#This Row],[KART]]*Tabela1[[#This Row],[Kolumna4]],)","v":0},100,100,1,0,0,{"$f":"IF(Tabela1[[#This Row],[Palet]]=0,0,IF(O168>0,O168*J168,))","v":{"$error":"#REF!"}},{"$error":"#REF!"},null,5900531001727,"A"]
[null,{"$f":"SUBTOTAL(103,$C$150:C169)+$B$142","v":112},662010,"Śmietana 18% UHT 1l",null,"Butelka 1L","Zgrzewka 6 szt.",{"$f":"IFERROR(Tabela1[[#This Row],[KART]]*Tabela1[[#This Row],[Kolumna4]],)","v":0},630,105,6,0,0,{"$f":"IF(Tabela1[[#This Row],[Palet]]=0,0,IF(O169>0,O169*J169,))","v":{"$error":"#VALUE!"}},{"$error":"#VALUE!"},null,"5901939005041","N"]
[null,{"$f":"SUBTOTAL(103,$C$150:C170)+$B$142","v":113},102016,"ŚMIETANA 18% 10L","https://piatnica.com.pl/content/uploads/2020/11/Smietanka_30_10_l-460x358.png","Wiaderko 10kg",null,{"$f":"IFERROR(Tabela1[[#This Row],[KART]]*Tabela1[[#This Row],[Kolumna4]],)","v":0},360,36,10,{"$f":"IF(ISERROR(H170/K170),,H170/K170)","v":0},{"$f":"IF(ISERROR(H170/I170),,H170/I170)","v":0},{"$f":"IF(Tabela1[[#This Row],[Palet]]=0,0,IF(O170>0,O170*J170,))","v":{"$error":"#REF!"}},{"$error":"#REF!"},null,5900531001314,"A"]
[null,{"$f":"SUBTOTAL(103,$C$150:C171)+$B$142","v":114},102502,"Śmietana 18% HoReCa 1kg","https://piatnica.com.pl/content/uploads/2020/11/Smietana_18_1_kg-1-460x358.png","Wiaderko 1kg","Tacka 6 szt.",{"$f":"IFERROR(Tabela1[[#This Row],[KART]]*Tabela1[[#This Row],[Kolumna4]],)","v":0},594,99,6,0,0,{"$f":"IF(Tabela1[[#This Row],[Palet]]=0,0,IF(O171>0,O171*J171,))","v":{"$error":"#REF!"}},{"$f":"IF(N171>0,N171/J171,\"-\")","v":{"$error":"#REF!"}},null,5900531001604,"A"]
[null,{"$f":"SUBTOTAL(103,$C$150:C172)+$B$142","v":115},102010,"Śmietanka 30% wiaderka","https://piatnica.com.pl/content/uploads/2020/11/Smietanka_30_10_l-460x358.png","Wiaderko 10kg",null,{"$f":"IFERROR(Tabela1[[#This Row],[KART]]*Tabela1[[#This Row],[Kolumna4]],)","v":0},360,36,10,0,0,{"$f":"IF(Tabela1[[#This Row],[Palet]]=0,0,IF(O172>0,O172*J172,))","v":{"$error":"#REF!"}},{"$error":"#REF!"},null,5900531001277,"A"]
[null,{"$f":"SUBTOTAL(103,$C$150:C173)+$B$142","v":116},663203,"Śmietana 30% UHT 1l","https://piatnica.com.pl/content/uploads/2024/10/Piatnica-smietanka-30-1l-1-460x331.png","Butelka 1L","Zgrzewka 6 szt.",{"$f":"IFERROR(Tabela1[[#This Row],[KART]]*Tabela1[[#This Row],[Kolumna4]],)","v":0},630,105,6,0,0,{"$f":"IF(Tabela1[[#This Row],[Palet]]=0,0,IF(O173>0,O173*J173,))","v":{"$error":"#VALUE!"}},{"$error":"#VALUE!"},null,"5901939005058","A"]
[null,{"$f":"SUBTOTAL(103,$C$150:C174)+$B$142","v":117},102006,"Śmietana 36% wiaderka","https://piatnica.com.pl/content/uploads/2020/11/Smietanka_36_1_kg-1-460x358.png","Wiaderko 10kg",null,{"$f":"IFERROR(Tabela1[[#This Row],[KART]]*Tabela1[[#This Row],[Kolumna4]],)","v":0},360,36,10,0,0,{"$f":"IF(Tabela1[[#This Row],[Palet]]=0,0,IF(O174>0,O174*J174,))","v":{"$error":"#REF!"}},{"$f":"IF(N174>0,N174/J174,\"-\")","v":{"$error":"#REF!"}},null,5900531001123,"A"]
[null,{"$f":"SUBTOTAL(103,$C$150:C175)+$B$142","v":117},102507,"Śmietanka 42% wiaderka",null,"Wiaderko 10kg",null,{"$f":"IFERROR(Tabela1[[#This Row],[KART]]*Tabela1[[#This Row],[Kolumna4]],)","v":0},0,36,10,{"$f":"IF(ISERROR(H175/K175),\"-\",H175/K175)","v":0},{"$f":"IF(ISERROR(H175/I175),,H175/I175)","v":0},{"$f":"IF(Tabela1[[#This Row],[Palet]]=0,0,IF(O175>0,O175*J175,))","v":{"$error":"#VALUE!"}},{"$f":"IF(N175>0,N175/J175,\"-\")","v":{"$error":"#VALUE!"}},null,null,"N"]
[null,null,null,"Liczba zamówionych pozycji",null,null,{"$f":"COUNT(N150:N175)","v":0},{"$f":"IFERROR(Tabela1[[#This Row],[KART]]*Tabela1[[#This Row],[Kolumna4]],)","v":0},null,null,null,null,{"$f":"SUM(H150:H175)","v":0},{"$f":"IF(Tabela1[[#This Row],[Palet]]=0,0,IF(O176>0,O176*J176,))","v":0},{"$f":"SUM(M150:M175)","v":0}]
[]
[null,"Zamówienie złożył:",null,null,null,"Imię i Nazwisko",null,null,null,null,null,null,null,"Kontakt:","Telefon, fax"]
[]
[]
[]
[]
[null,null,null,"DANE DO IMPORT ZAMÓWIEŃ"]
[]
[null,null,null,"NUMER PŁATNIKA",null,null,"NUMER ZAMÓWIENIA IMPULS",null,null,null,null,null,null,null,"ID ZAMÓWIENIA IMPULS"]

{"sheet":"EKSPORT","index":1,"n_rows":178,"n_cols":6,"rows_kept":178,"cut":false,"hidden":false,"merged":[[2,3,2,4]]}
[null,null,null,"Zam","Dostawa"]
[null,{"$f":"'DRUK ZAMÓWIENIA'!D6","v":"Nazwa Odbiorcy"},null,{"$f":"'DRUK ZAMÓWIENIA'!F10","v":"2025-03-12"},{"$f":"'DRUK ZAMÓWIENIA'!O7","v":"2025-03-14"}]
[null,"Numer zam",null,{"$f":"'DRUK ZAMÓWIENIA'!F9","v":"XLS/1117/71/2025"}]
[]
["LP","KOD","NAZWA","SZT","KART","CZY AKTUALNY"]
[1,{"$f":"'DRUK ZAMÓWIENIA'!Q13","v":5900531000010},{"$f":"'DRUK ZAMÓWIENIA'!D13","v":"Serek  wiejski 200g"},{"$f":"'DRUK ZAMÓWIENIA'!H13","v":0},{"$f":"IFERROR('DRUK ZAMÓWIENIA'!N13,0)","v":0},{"$f":"'DRUK ZAMÓWIENIA'!R13","v":"A"}]
[2,{"$f":"'DRUK ZAMÓWIENIA'!Q14","v":5900531050015},{"$f":"'DRUK ZAMÓWIENIA'!D14","v":"Serek wiejski BIO 200g"},{"$f":"'DRUK ZAMÓWIENIA'!H14","v":0},{"$f":"IFERROR('DRUK ZAMÓWIENIA'!N14,0)","v":0},{"$f":"'DRUK ZAMÓWIENIA'!R14","v":"N"}]
[3,{"$f":"'DRUK ZAMÓWIENIA'!Q15","v":5900531004308},{"$f":"'DRUK ZAMÓWIENIA'!D15","v":"Serek wiejski BEZ LAKTOZY 200g"},{"$f":"'DRUK ZAMÓWIENIA'!H15","v":0},{"$f":"IFERROR('DRUK ZAMÓWIENIA'!N15,0)","v":0},{"$f":"'DRUK ZAMÓWIENIA'!R15","v":"A"}]
[4,{"$f":"'DRUK ZAMÓWIENIA'!Q16","v":5900531007019},{"$f":"'DRUK ZAMÓWIENIA'!D16","v":"Serek wiejski WYSOKOBIAŁKOWY 200g"},{"$f":"'DRUK ZAMÓWIENIA'!H16","v":0},{"$f":"IFERROR('DRUK ZAMÓWIENIA'!N16,0)","v":0},{"$f":"'DRUK ZAMÓWIENIA'!R16","v":"A"}]
[5,{"$f":"'DRUK ZAMÓWIENIA'!Q17","v":5900531000041},{"$f":"'DRUK ZAMÓWIENIA'!D17","v":"Serek wiejski \"RODZINNY\" 500g "},{"$f":"'DRUK ZAMÓWIENIA'!H17","v":0},{"$f":"IFERROR('DRUK ZAMÓWIENIA'!N17,0)","v":0},{"$f":"'DRUK ZAMÓWIENIA'!R17","v":"A"}]
[6,{"$f":"'DRUK ZAMÓWIENIA'!Q18","v":5900531000102},{"$f":"'DRUK ZAMÓWIENIA'!D18","v":"Serek  wiejski lekki 150g"},{"$f":"'DRUK ZAMÓWIENIA'!H18","v":0},{"$f":"IFERROR('DRUK ZAMÓWIENIA'!N18,0)","v":0},{"$f":"'DRUK ZAMÓWIENIA'!R18","v":"A"}]
[7,{"$f":"'DRUK ZAMÓWIENIA'!Q19","v":5900531000072},{"$f":"'DRUK ZAMÓWIENIA'!D19","v":"Serek  wiejski lekki \"RODZINNY\" 500g"},{"$f":"'DRUK ZAMÓWIENIA'!H19","v":0},{"$f":"IFERROR('DRUK ZAMÓWIENIA'!N19,0)","v":0},{"$f":"'DRUK ZAMÓWIENIA'!R19","v":"N"}]
[8,{"$f":"'DRUK ZAMÓWIENIA'!Q20","v":5900531000201},{"$f":"'DRUK ZAMÓWIENIA'!D20","v":"Serek  wiejski ze szczypiorkiem"},{"$f":"'DRUK ZAMÓWIENIA'!H20","v":0},{"$f":"IFERROR('DRUK ZAMÓWIENIA'!N20,0)","v":0},{"$f":"'DRUK ZAMÓWIENIA'!R20","v":"A"}]
[9,{"$f":"'DRUK ZAMÓWIENIA'!Q21","v":5900531000928},{"$f":"'DRUK ZAMÓWIENIA'!D21","v":"Serek  wiejski z miodem"},{"$f":"'DRUK ZAMÓWIENIA'!H21","v":0},{"$f":"IFERROR('DRUK ZAMÓWIENIA'!N21,0)","v":0},{"$f":"'DRUK ZAMÓWIENIA'!R21","v":"N"}]
[10,{"$f":"'DRUK ZAMÓWIENIA'!Q22","v":5900531000911},{"$f":"'DRUK ZAMÓWIENIA'!D22","v":"Serek  wiejski z ananasem"},{"$f":"'DRUK ZAMÓWIENIA'!H22","v":0},{"$f":"IFERROR('DRUK ZAMÓWIENIA'!N22,0)","v":0},{"$f":"'DRUK ZAMÓWIENIA'!R22","v":"A"}]
[11,{"$f":"'DRUK ZAMÓWIENIA'!Q23","v":5900531000935},{"$f":"'DRUK ZAMÓWIENIA'!D23","v":"Serek  wiejski z brzoskwinią"},{"$f":"'DRUK ZAMÓWIENIA'!H23","v":0},{"$f":"IFERROR('DRUK ZAMÓWIENIA'!N23,0)","v":0},{"$f":"'DRUK ZAMÓWIENIA'!R23","v":"A"}]
[12,{"$f":"'DRUK ZAMÓWIENIA'!Q24","v":5900531000942},{"$f":"'DRUK ZAMÓWIENIA'!D24","v":"Serek  wiejski z truskawkami"},{"$f":"'DRUK ZAMÓWIENIA'!H24","v":0},{"$f":"IFERROR('DRUK ZAMÓWIENIA'!N24,0)","v":0},{"$f":"'DRUK ZAMÓWIENIA'!R24","v":"A"}]
[13,{"$f":"'DRUK ZAMÓWIENIA'!Q25","v":5900531000980},{"$f":"'DRUK ZAMÓWIENIA'!D25","v":"Serek  wiejski z malinami i żurawiną"},{"$f":"'DRUK ZAMÓWIENIA'!H25","v":0},{"$f":"IFERROR('DRUK ZAMÓWIENIA'!N25,0)","v":0},{"$f":"'DRUK ZAMÓWIENIA'!R25","v":"A"}]
[14,{"$f":"'DRUK ZAMÓWIENIA'!Q26","v":5900531000973},{"$f":"'DRUK ZAMÓWIENIA'!D26","v":"Serek  wiejski z jagodami"},{"$f":"'DRUK ZAMÓWIENIA'!H26","v":0},{"$f":"IFERROR('DRUK ZAMÓWIENIA'!N26,0)","v":0},{"$f":"'DRUK ZAMÓWIENIA'!R26","v":"A"}]
[15,{"$f":"'DRUK ZAMÓWIENIA'!Q27","v":"5900531001383"},{"$f":"'DRUK ZAMÓWIENIA'!D27","v":"Serek  wiejski jabłko z cynamonem"},{"$f":"'DRUK ZAMÓWIENIA'!H27","v":0},{"$f":"IFERROR('DRUK ZAMÓWIENIA'!N27,0)","v":0},{"$f":"'DRUK ZAMÓWIENIA'!R27","v":"A"}]
[16,{"$f":"'DRUK ZAMÓWIENIA'!Q28","v":5900531000300},{"$f":"'DRUK ZAMÓWIENIA'!D28","v":"Twarożek naturalny"},{"$f":"'DRUK ZAMÓWIENIA'!H28","v":0},{"$f":"IFERROR('DRUK ZAMÓWIENIA'!N28,0)","v":0},{"$f":"'DRUK ZAMÓWIENIA'!R28","v":"A"}]
[17,{"$f":"'DRUK ZAMÓWIENIA'!Q29","v":5900531004049},{"$f":"'DRUK ZAMÓWIENIA'!D29","v":"Twaróg wiejski lekki"},{"$f":"'DRUK ZAMÓWIENIA'!H29","v":0},{"$f":"IFERROR('DRUK ZAMÓWIENIA'!N29,0)","v":0},{"$f":"'DRUK ZAMÓWIENIA'!R29","v":"A"}]
[18,{"$f":"'DRUK ZAMÓWIENIA'!Q30","v":5900531004018},{"$f":"'DRUK ZAMÓWIENIA'!D30","v":"Twaróg wiejski półtłusty"},{"$f":"'DRUK ZAMÓWIENIA'!H30","v":0},{"$f":"IFERROR('DRUK ZAMÓWIENIA'!N30,0)","v":0},{"$f":"'DRUK ZAMÓWIENIA'!R30","v":"A"}]
[19,{"$f":"'DRUK ZAMÓWIENIA'!Q31","v":5900531004025},{"$f":"'DRUK ZAMÓWIENIA'!D31","v":"Twaróg wiejski tłusty"},{"$f":"'DRUK ZAMÓWIENIA'!H31","v":0},{"$f":"IFERROR('DRUK ZAMÓWIENIA'!N31,0)","v":0},{"$f":"'DRUK ZAMÓWIENIA'!R31","v":"A"}]
[19,{"$f":"'DRUK ZAMÓWIENIA'!Q32","v":5900531105036},{"$f":"'DRUK ZAMÓWIENIA'!D32","v":"TWARÓG MIELONY PÓŁTŁUSTY 250G"},{"$f":"'DRUK ZAMÓWIENIA'!H32","v":0},{"$f":"IFERROR('DRUK ZAMÓWIENIA'!N32,0)","v":0},{"$f":"'DRUK ZAMÓWIENIA'!R32","v":"A"}]
[19,{"$f":"'DRUK ZAMÓWIENIA'!Q33","v":5900531105043},{"$f":"'DRUK ZAMÓWIENIA'!D33","v":"TWARÓG MIELONY CHUDY 250G"},{"$f":"'DRUK ZAMÓWIENIA'!H33","v":0},{"$f":"IFERROR('DRUK ZAMÓWIENIA'!N33,0)","v":0},{"$f":"'DRUK ZAMÓWIENIA'!R33","v":"A"}]
[20,{"$f":"'DRUK ZAMÓWIENIA'!Q34","v":5900531054013},{"$f":"'DRUK ZAMÓWIENIA'!D34","v":"Twaróg wiejski BIO"},{"$f":"'DRUK ZAMÓWIENIA'!H34","v":0},{"$f":"IFERROR('DRUK ZAMÓWIENIA'!N34,0)","v":0},{"$f":"'DRUK ZAMÓWIENIA'!R34","v":"A"}]
[21,{"$f":"'DRUK ZAMÓWIENIA'!Q35","v":5900531004056},{"$f":"'DRUK ZAMÓWIENIA'!D35","v":"Twaróg SERNIKOWY mielony"},{"$f":"'DRUK ZAMÓWIENIA'!H35","v":0},{"$f":"IFERROR('DRUK ZAMÓWIENIA'!N35,0)","v":0},{"$f":"'DRUK ZAMÓWIENIA'!R35","v":"A"}]
[22,{"$f":"'DRUK ZAMÓWIENIA'!Q36","v":5900531000508},{"$f":"'DRUK ZAMÓWIENIA'!D36","v":"Twój Smak  naturalny"},{"$f":"'DRUK ZAMÓWIENIA'!H36","v":0},{"$f":"IFERROR('DRUK ZAMÓWIENIA'!N36,0)","v":0},{"$f":"'DRUK ZAMÓWIENIA'!R36","v":"A"}]
[23,{"$f":"'DRUK ZAMÓWIENIA'!Q37","v":5900531000607},{"$f":"'DRUK ZAMÓWIENIA'!D37","v":"Twój Smak  naturalny 200g"},{"$f":"'DRUK ZAMÓWIENIA'!H37","v":0},{"$f":"IFERROR('DRUK ZAMÓWIENIA'!N37,0)","v":0},{"$f":"'DRUK ZAMÓWIENIA'!R37","v":"A"}]
[24,{"$f":"'DRUK ZAMÓWIENIA'!Q38","v":5900531000522},{"$f":"'DRUK ZAMÓWIENIA'!D38","v":"Twój Smak  z przyprawami"},{"$f":"'DRUK ZAMÓWIENIA'!H38","v":0},{"$f":"IFERROR('DRUK ZAMÓWIENIA'!N38,0)","v":0},{"$f":"'DRUK ZAMÓWIENIA'!R38","v":"A"}]
[25,{"$f":"'DRUK ZAMÓWIENIA'!Q39","v":5900531000515},{"$f":"'DRUK ZAMÓWIENIA'!D39","v":"Twój Smak  z chrzanem"},{"$f":"'DRUK ZAMÓWIENIA'!H39","v":0},{"$f":"IFERROR('DRUK ZAMÓWIENIA'!N39,0)","v":0},{"$f":"'DRUK ZAMÓWIENIA'!R39","v":"A"}]
[26,{"$f":"'DRUK ZAMÓWIENIA'!Q40","v":5900531000539},{"$f":"'DRUK ZAMÓWIENIA'!D40","v":"Twój Smak  z czosnkiem"},{"$f":"'DRUK ZAMÓWIENIA'!H40","v":0},{"$f":"IFERROR('DRUK ZAMÓWIENIA'!N40,0)","v":0},{"$f":"'DRUK ZAMÓWIENIA'!R40","v":"A"}]
[27,{"$f":"'DRUK ZAMÓWIENIA'!Q41","v":5900531000546},{"$f":"'DRUK ZAMÓWIENIA'!D41","v":"Twój Smak  ze szczypiorkiem"},{"$f":"'DRUK ZAMÓWIENIA'!H41","v":0},{"$f":"IFERROR('DRUK ZAMÓWIENIA'!N41,0)","v":0},{"$f":"'DRUK ZAMÓWIENIA'!R41","v":"A"}]
[28,{"$f":"'DRUK ZAMÓWIENIA'!Q42","v":5900531001710},{"$f":"'DRUK ZAMÓWIENIA'!D42","v":"Twój Smak  z ziołami"},{"$f":"'DRUK ZAMÓWIENIA'!H42","v":0},{"$f":"IFERROR('DRUK ZAMÓWIENIA'!N42,0)","v":0},{"$f":"'DRUK ZAMÓWIENIA'!R42","v":"A"}]
[29,{"$f":"'DRUK ZAMÓWIENIA'!Q43","v":5900531000706},{"$f":"'DRUK ZAMÓWIENIA'!D43","v":"Twój Smak „PUSZYSTY” naturalny"},{"$f":"'DRUK ZAMÓWIENIA'!H43","v":0},{"$f":"IFERROR('DRUK ZAMÓWIENIA'!N43,0)","v":0},{"$f":"'DRUK ZAMÓWIENIA'!R43","v":"A"}]
[30,{"$f":"'DRUK ZAMÓWIENIA'!Q44","v":5900531000720},{"$f":"'DRUK ZAMÓWIENIA'!D44","v":"Twój Smak „PUSZYSTY” zioła"},{"$f":"'DRUK ZAMÓWIENIA'!H44","v":0},{"$f":"IFERROR('DRUK ZAMÓWIENIA'!N44,0)","v":0},{"$f":"'DRUK ZAMÓWIENIA'!R44","v":"A"}]
[31,{"$f":"'DRUK ZAMÓWIENIA'!Q45","v":5900531000713},{"$f":"'DRUK ZAMÓWIENIA'!D45","v":"Twój Smak „PUSZYSTY” szczypior"},{"$f":"'DRUK ZAMÓWIENIA'!H45","v":0},{"$f":"IFERROR('DRUK ZAMÓWIENIA'!N45,0)","v":0},{"$f":"'DRUK ZAMÓWIENIA'!R45","v":"A"}]
[32,{"$f":"'DRUK ZAMÓWIENIA'!Q46","v":5900531000737},{"$f":"'DRUK ZAMÓWIENIA'!D46","v":"Twój Smak „PUSZYSTY” pieprz"},{"$f":"'DRUK ZAMÓWIENIA'!H46","v":0},{"$f":"IFERROR('DRUK ZAMÓWIENIA'!N46,0)","v":0},{"$f":"'DRUK ZAMÓWIENIA'!R46","v":"A"}]
[33,{"$f":"'DRUK ZAMÓWIENIA'!Q47","v":5900531000775},{"$f":"'DRUK ZAMÓWIENIA'!D47","v":"Twój Smak „PUSZYSTY” z łososiem "},{"$f":"'DRUK ZAMÓWIENIA'!H47","v":0},{"$f":"IFERROR('DRUK ZAMÓWIENIA'!N47,0)","v":0},{"$f":"'DRUK ZAMÓWIENIA'!R47","v":"A"}]
[34,{"$f":"'DRUK ZAMÓWIENIA'!Q48","v":5900531000843},{"$f":"'DRUK ZAMÓWIENIA'!D48","v":"Twój Smak „PUSZYSTY” z pomidorami"},{"$f":"'DRUK ZAMÓWIENIA'!H48","v":0},{"$f":"IFERROR('DRUK ZAMÓWIENIA'!N48,0)","v":0},{"$f":"'DRUK ZAMÓWIENIA'!R48","v":"A"}]
[35,{"$f":"'DRUK ZAMÓWIENIA'!Q49","v":"5900531001758"},{"$f":"'DRUK ZAMÓWIENIA'!D49","v":"Twój Smak „PUSZYSTY” z grzybami leśnymi"},{"$f":"'DRUK ZAMÓWIENIA'!H49","v":0},{"$f":"IFERROR('DRUK ZAMÓWIENIA'!N49,0)","v":0},{"$f":"'DRUK ZAMÓWIENIA'!R49","v":"N"}]
[36,{"$f":"'DRUK ZAMÓWIENIA'!Q50","v":5900531000867},{"$f":"'DRUK ZAMÓWIENIA'!D50","v":"Twój Smak „PUSZYSTY” z chrzanem"},{"$f":"'DRUK ZAMÓWIENIA'!H50","v":0},{"$f":"IFERROR('DRUK ZAMÓWIENIA'!N50,0)","v":0},{"$f":"'DRUK ZAMÓWIENIA'!R50","v":"A"}]
[37,{"$f":"'DRUK ZAMÓWIENIA'!Q51","v":5900531006005},{"$f":"'DRUK ZAMÓWIENIA'!D51","v":"Twój Smak Aksamitny naturalny"},{"$f":"'DRUK ZAMÓWIENIA'!H51","v":0},{"$f":"IFERROR('DRUK ZAMÓWIENIA'!N51,0)","v":0},{"$f":"'DRUK ZAMÓWIENIA'!R51","v":"A"}]
[38,{"$f":"'DRUK ZAMÓWIENIA'!Q52","v":5900531006012},{"$f":"'DRUK ZAMÓWIENIA'!D52","v":"Twój Smak Aksamitny z ziołami"},{"$f":"'DRUK ZAMÓWIENIA'!H52","v":0},{"$f":"IFERROR('DRUK ZAMÓWIENIA'!N52,0)","v":0},{"$f":"'DRUK ZAMÓWIENIA'!R52","v":"A"}]
[39,{"$f":"'DRUK ZAMÓWIENIA'!Q53","v":5900531006029},{"$f":"'DRUK ZAMÓWIENIA'!D53","v":"Serek Milandia ze szpinakiem i czosnkiem"},{"$f":"'DRUK ZAMÓWIENIA'!H53","v":0},{"$f":"IFERROR('DRUK ZAMÓWIENIA'!N53,0)","v":0},{"$f":"'DRUK ZAMÓWIENIA'!R53","v":"N"}]
[40,{"$f":"'DRUK ZAMÓWIENIA'!Q54","v":5900531006036},{"$f":"'DRUK ZAMÓWIENIA'!D54","v":"Twój Smak Aksamitny  z Łososiem"},{"$f":"'DRUK ZAMÓWIENIA'!H54","v":0},{"$f":"IFERROR('DRUK ZAMÓWIENIA'!N54,0)","v":0},{"$f":"'DRUK ZAMÓWIENIA'!R54","v":"A"}]
[41,{"$f":"'DRUK ZAMÓWIENIA'!Q55","v":"5900531006043"},{"$f":"'DRUK ZAMÓWIENIA'!D55","v":"Twój Smak Aksamitny  z jogurtem"},{"$f":"'DRUK ZAMÓWIENIA'!H55","v":0},{"$f":"IFERROR('DRUK ZAMÓWIENIA'!N55,0)","v":0},{"$f":"'DRUK ZAMÓWIENIA'!R55","v":"N"}]
[42,{"$f":"'DRUK ZAMÓWIENIA'!Q56","v":5900531001406},{"$f":"'DRUK ZAMÓWIENIA'!D56","v":"Mascarpone"},{"$f":"'DRUK ZAMÓWIENIA'!H56","v":0},{"$f":"IFERROR('DRUK ZAMÓWIENIA'!N56,0)","v":0},{"$f":"'DRUK ZAMÓWIENIA'!R56","v":"A"}]
[43,{"$f":"'DRUK ZAMÓWIENIA'!Q57","v":5900531001475},{"$f":"'DRUK ZAMÓWIENIA'!D57","v":"Mascarpone 500g"},{"$f":"'DRUK ZAMÓWIENIA'!H57","v":0},{"$f":"IFERROR('DRUK ZAMÓWIENIA'!N57,0)","v":0},{"$f":"'DRUK ZAMÓWIENIA'!R57","v":"A"}]
[44,{"$f":"'DRUK ZAMÓWIENIA'!Q58","v":5900531003776},{"$f":"'DRUK ZAMÓWIENIA'!D58","v":"Kefir 0%"},{"$f":"'DRUK ZAMÓWIENIA'!H58","v":0},{"$f":"IFERROR('DRUK ZAMÓWIENIA'!N58,0)","v":0},{"$f":"'DRUK ZAMÓWIENIA'!R58","v":"N"}]
[45,{"$f":"'DRUK ZAMÓWIENIA'!Q59","v":5900531003776},{"$f":"'DRUK ZAMÓWIENIA'!D59","v":"Kefir 2%"},{"$f":"'DRUK ZAMÓWIENIA'!H59","v":0},{"$f":"IFERROR('DRUK ZAMÓWIENIA'!N59,0)","v":0},{"$f":"'DRUK ZAMÓWIENIA'!R59","v":"A"}]
[46,{"$f":"'DRUK ZAMÓWIENIA'!Q60","v":5900531011030},{"$f":"'DRUK ZAMÓWIENIA'!D60","v":"Serek Homogenizowany naturalny"},{"$f":"'DRUK ZAMÓWIENIA'!H60","v":0},{"$f":"IFERROR('DRUK ZAMÓWIENIA'!N60,0)","v":0},{"$f":"'DRUK ZAMÓWIENIA'!R60","v":"A"}]
[47,{"$f":"'DRUK ZAMÓWIENIA'!Q61","v":5900531011016},{"$f":"'DRUK ZAMÓWIENIA'!D61","v":"Serek Homogenizowany waniliowy"},{"$f":"'DRUK ZAMÓWIENIA'!H61","v":0},{"$f":"IFERROR('DRUK ZAMÓWIENIA'!N61,0)","v":0},{"$f":"'DRUK ZAMÓWIENIA'!R61","v":"A"}]
[48,{"$f":"'DRUK ZAMÓWIENIA'!Q62","v":5900531011023},{"$f":"'DRUK ZAMÓWIENIA'!D62","v":"Serek Homogenizowany truskawkowy"},{"$f":"'DRUK ZAMÓWIENIA'!H62","v":0},{"$f":"IFERROR('DRUK ZAMÓWIENIA'!N62,0)","v":0},{"$f":"'DRUK ZAMÓWIENIA'!R62","v":"A"}]
[49,{"$f":"'DRUK ZAMÓWIENIA'!Q63","v":5900531011047},{"$f":"'DRUK ZAMÓWIENIA'!D63","v":"Serek Homogenizowany straciatella"},{"$f":"'DRUK ZAMÓWIENIA'!H63","v":0},{"$f":"IFERROR('DRUK ZAMÓWIENIA'!N63,0)","v":0},{"$f":"'DRUK ZAMÓWIENIA'!R63","v":"A"}]
[50,{"$f":"'DRUK ZAMÓWIENIA'!Q64","v":5900531011061},{"$f":"'DRUK ZAMÓWIENIA'!D64","v":"Serek Homogenizowany kokosowy"},{"$f":"'DRUK ZAMÓWIENIA'!H64","v":0},{"$f":"IFERROR('DRUK ZAMÓWIENIA'!N64,0)","v":0},{"$f":"'DRUK ZAMÓWIENIA'!R64","v":"A"}]
[51,{"$f":"'DRUK ZAMÓWIENIA'!Q65","v":"5900531011139"},{"$f":"'DRUK ZAMÓWIENIA'!D65","v":"Serek Homogenizowany ciasteczkowy"},{"$f":"'DRUK ZAMÓWIENIA'!H65","v":0},{"$f":"IFERROR('DRUK ZAMÓWIENIA'!N65,0)","v":0},{"$f":"'DRUK ZAMÓWIENIA'!R65","v":"A"}]
[51,{"$f":"'DRUK ZAMÓWIENIA'!Q66","v":5900531011207},{"$f":"'DRUK ZAMÓWIENIA'!D66","v":"Serek Homogenizowany brzoskwiniowy 150g"},{"$f":"'DRUK ZAMÓWIENIA'!H66","v":0},{"$f":"IFERROR('DRUK ZAMÓWIENIA'!N66,0)","v":0},{"$f":"'DRUK ZAMÓWIENIA'!R66","v":"A"}]
[52,{"$f":"'DRUK ZAMÓWIENIA'!Q67","v":5901939020013},{"$f":"'DRUK ZAMÓWIENIA'!D67","v":"Twój Smak w Plastrach Śmietankowy"},{"$f":"'DRUK ZAMÓWIENIA'!H67","v":0},{"$f":"IFERROR('DRUK ZAMÓWIENIA'!N67,0)","v":0},{"$f":"'DRUK ZAMÓWIENIA'!R67","v":"A"}]
[53,{"$f":"'DRUK ZAMÓWIENIA'!Q68","v":5901939020044},{"$f":"'DRUK ZAMÓWIENIA'!D68","v":"Twój Smak w Plastrach  z Ziołami"},{"$f":"'DRUK ZAMÓWIENIA'!H68","v":0},{"$f":"IFERROR('DRUK ZAMÓWIENIA'!N68,0)","v":0},{"$f":"'DRUK ZAMÓWIENIA'!R68","v":"A"}]
[54,{"$f":"'DRUK ZAMÓWIENIA'!Q69","v":5901939020020},{"$f":"'DRUK ZAMÓWIENIA'!D69","v":"Twój Smak w Plastrach Papryka i Pomidor"},{"$f":"'DRUK ZAMÓWIENIA'!H69","v":0},{"$f":"IFERROR('DRUK ZAMÓWIENIA'!N69,0)","v":0},{"$f":"'DRUK ZAMÓWIENIA'!R69","v":"A"}]
[55,{"$f":"'DRUK ZAMÓWIENIA'!Q70","v":5900531001062},{"$f":"'DRUK ZAMÓWIENIA'!D70","v":"Śmietana 10%"},{"$f":"'DRUK ZAMÓWIENIA'!H70","v":0},{"$f":"IFERROR('DRUK ZAMÓWIENIA'!N70,0)","v":0},{"$f":"'DRUK ZAMÓWIENIA'!R70","v":"A"}]
[56,{"$f":"'DRUK ZAMÓWIENIA'!Q71","v":5901939010014},{"$f":"'DRUK ZAMÓWIENIA'!D71","v":"Śmietana 12%"},{"$f":"'DRUK ZAMÓWIENIA'!H71","v":0},{"$f":"IFERROR('DRUK ZAMÓWIENIA'!N71,0)","v":0},{"$f":"'DRUK ZAMÓWIENIA'!R71","v":"A"}]
[57,{"$f":"'DRUK ZAMÓWIENIA'!Q72","v":5900531001109},{"$f":"'DRUK ZAMÓWIENIA'!D72","v":"Śmietana 12 % "},{"$f":"'DRUK ZAMÓWIENIA'!H72","v":0},{"$f":"IFERROR('DRUK ZAMÓWIENIA'!N72,0)","v":0},{"$f":"'DRUK ZAMÓWIENIA'!R72","v":"A"}]
[58,{"$f":"'DRUK ZAMÓWIENIA'!Q73","v":5900531001031},{"$f":"'DRUK ZAMÓWIENIA'!D73","v":"Śmietana 18%"},{"$f":"'DRUK ZAMÓWIENIA'!H73","v":0},{"$f":"IFERROR('DRUK ZAMÓWIENIA'!N73,0)","v":0},{"$f":"'DRUK ZAMÓWIENIA'!R73","v":"A"}]
[59,{"$f":"'DRUK ZAMÓWIENIA'!Q74","v":5900531009013},{"$f":"'DRUK ZAMÓWIENIA'!D74","v":"Śmietana 18% BIO "},{"$f":"'DRUK ZAMÓWIENIA'!H74","v":0},{"$f":"IFERROR('DRUK ZAMÓWIENIA'!N74,0)","v":0},{"$f":"'DRUK ZAMÓWIENIA'!R74","v":"N"}]
[60,{"$f":"'DRUK ZAMÓWIENIA'!Q75","v":"5901939005010"},{"$f":"'DRUK ZAMÓWIENIA'!D75","v":"ŚMIETANA 18% 250 ml"},{"$f":"'DRUK ZAMÓWIENIA'!H75","v":0},{"$f":"IFERROR('DRUK ZAMÓWIENIA'!N75,0)","v":0},{"$f":"'DRUK ZAMÓWIENIA'!R75","v":"N"}]
[61,{"$f":"'DRUK ZAMÓWIENIA'!Q76","v":5900531001130},{"$f":"'DRUK ZAMÓWIENIA'!D76","v":"Śmietana 18% "},{"$f":"'DRUK ZAMÓWIENIA'!H76","v":0},{"$f":"IFERROR('DRUK ZAMÓWIENIA'!N76,0)","v":0},{"$f":"'DRUK ZAMÓWIENIA'!R76","v":"A"}]
[62,{"$f":"'DRUK ZAMÓWIENIA'!Q77","v":5900531001086},{"$f":"'DRUK ZAMÓWIENIA'!D77","v":"Śmietana 30%"},{"$f":"'DRUK ZAMÓWIENIA'!H77","v":0},{"$f":"IFERROR('DRUK ZAMÓWIENIA'!N77,0)","v":0},{"$f":"'DRUK ZAMÓWIENIA'!R77","v":"A"}]
[63,{"$f":"'DRUK ZAMÓWIENIA'!Q78","v":"5901939005027"},{"$f":"'DRUK ZAMÓWIENIA'!D78","v":"Śmietana 30% 250 ml"},{"$f":"'DRUK ZAMÓWIENIA'!H78","v":0},{"$f":"IFERROR('DRUK ZAMÓWIENIA'!N78,0)","v":0},{"$f":"'DRUK ZAMÓWIENIA'!R78","v":"N"}]
[64,{"$f":"'DRUK ZAMÓWIENIA'!Q79","v":5900531001079},{"$f":"'DRUK ZAMÓWIENIA'!D79","v":"Śmietanka 30% do ubijania "},{"$f":"'DRUK ZAMÓWIENIA'!H79","v":0},{"$f":"IFERROR('DRUK ZAMÓWIENIA'!N79,0)","v":0},{"$f":"'DRUK ZAMÓWIENIA'!R79","v":"A"}]
[65,{"$f":"'DRUK ZAMÓWIENIA'!Q80","v":5900531001024},{"$f":"'DRUK ZAMÓWIENIA'!D80","v":"Śmietana 36%"},{"$f":"'DRUK ZAMÓWIENIA'!H80","v":0},{"$f":"IFERROR('DRUK ZAMÓWIENIA'!N80,0)","v":0},{"$f":"'DRUK ZAMÓWIENIA'!R80","v":"A"}]
[66,{"$f":"'DRUK ZAMÓWIENIA'!Q81","v":5900531000423},{"$f":"'DRUK ZAMÓWIENIA'!D81","v":"Jogurt Naturalny 2% 180g"},{"$f":"'DRUK ZAMÓWIENIA'!H81","v":0},{"$f":"IFERROR('DRUK ZAMÓWIENIA'!N81,0)","v":0},{"$f":"'DRUK ZAMÓWIENIA'!R81","v":"A"}]
[67,{"$f":"'DRUK ZAMÓWIENIA'!Q82","v":5900531003424},{"$f":"'DRUK ZAMÓWIENIA'!D82","v":"Jogurt BIO"},{"$f":"'DRUK ZAMÓWIENIA'!H82","v":0},{"$f":"IFERROR('DRUK ZAMÓWIENIA'!N82,0)","v":0},{"$f":"'DRUK ZAMÓWIENIA'!R82","v":"A"}]
[68,{"$f":"'DRUK ZAMÓWIENIA'!Q83","v":5900531003738},{"$f":"'DRUK ZAMÓWIENIA'!D83","v":"Jogurt Naturalny 2% 330g"},{"$f":"'DRUK ZAMÓWIENIA'!H83","v":0},{"$f":"IFERROR('DRUK ZAMÓWIENIA'!N83,0)","v":0},{"$f":"'DRUK ZAMÓWIENIA'!R83","v":"A"}]
[69,{"$f":"'DRUK ZAMÓWIENIA'!Q84","v":5900531003103},{"$f":"'DRUK ZAMÓWIENIA'!D84","v":"Jogurt Grecki Naturalny 0%"},{"$f":"'DRUK ZAMÓWIENIA'!H84","v":0},{"$f":"IFERROR('DRUK ZAMÓWIENIA'!N84,0)","v":0},{"$f":"'DRUK ZAMÓWIENIA'!R84","v":"A"}]
[70,{"$f":"'DRUK ZAMÓWIENIA'!Q85","v":5900531003202},{"$f":"'DRUK ZAMÓWIENIA'!D85","v":"Jogurt Grecki Truskawka"},{"$f":"'DRUK ZAMÓWIENIA'!H85","v":0},{"$f":"IFERROR('DRUK ZAMÓWIENIA'!N85,0)","v":0},{"$f":"'DRUK ZAMÓWIENIA'!R85","v":"N"}]
[71,{"$f":"'DRUK ZAMÓWIENIA'!Q86","v":5900531003608},{"$f":"'DRUK ZAMÓWIENIA'!D86","v":"Jogurt Grecki Brzoskwinia"},{"$f":"'DRUK ZAMÓWIENIA'!H86","v":0},{"$f":"IFERROR('DRUK ZAMÓWIENIA'!N86,0)","v":0},{"$f":"'DRUK ZAMÓWIENIA'!R86","v":"N"}]
[72,{"$f":"'DRUK ZAMÓWIENIA'!Q87","v":5900531003615},{"$f":"'DRUK ZAMÓWIENIA'!D87","v":"Jogurt Grecki Wiśnia"},{"$f":"'DRUK ZAMÓWIENIA'!H87","v":0},{"$f":"IFERROR('DRUK ZAMÓWIENIA'!N87,0)","v":0},{"$f":"'DRUK ZAMÓWIENIA'!R87","v":"N"}]
[73,{"$f":"'DRUK ZAMÓWIENIA'!Q88","v":5900531003400},{"$f":"'DRUK ZAMÓWIENIA'!D88","v":"Jogurt Grecki Jagoda"},{"$f":"'DRUK ZAMÓWIENIA'!H88","v":0},{"$f":"IFERROR('DRUK ZAMÓWIENIA'!N88,0)","v":0},{"$f":"'DRUK ZAMÓWIENIA'!R88","v":"N"}]
[74,{"$f":"'DRUK ZAMÓWIENIA'!Q89","v":5900531003301},{"$f":"'DRUK ZAMÓWIENIA'!D89","v":"Jogurt Grecki Malina"},{"$f":"'DRUK ZAMÓWIENIA'!H89","v":0},{"$f":"IFERROR('DRUK ZAMÓWIENIA'!N89,0)","v":0},{"$f":"'DRUK ZAMÓWIENIA'!R89","v":"N"}]
[75,{"$f":"'DRUK ZAMÓWIENIA'!Q90","v":5900531003509},{"$f":"'DRUK ZAMÓWIENIA'!D90","v":"Jogurt Grecki Gruszka"},{"$f":"'DRUK ZAMÓWIENIA'!H90","v":0},{"$f":"IFERROR('DRUK ZAMÓWIENIA'!N90,0)","v":0},{"$f":"'DRUK ZAMÓWIENIA'!R90","v":"N"}]
[76,{"$f":"'DRUK ZAMÓWIENIA'!Q91","v":5900531004544},{"$f":"'DRUK ZAMÓWIENIA'!D91","v":"Jogurt SYR naturalny150g "},{"$f":"'DRUK ZAMÓWIENIA'!H91","v":0},{"$f":"IFERROR('DRUK ZAMÓWIENIA'!N91,0)","v":0},{"$f":"'DRUK ZAMÓWIENIA'!R91","v":"A"}]
[77,{"$f":"'DRUK ZAMÓWIENIA'!Q92","v":5900531004506},{"$f":"'DRUK ZAMÓWIENIA'!D92","v":"Jogurt SYR z truskawkami 150g "},{"$f":"'DRUK ZAMÓWIENIA'!H92","v":0},{"$f":"IFERROR('DRUK ZAMÓWIENIA'!N92,0)","v":0},{"$f":"'DRUK ZAMÓWIENIA'!R92","v":"A"}]
[78,{"$f":"'DRUK ZAMÓWIENIA'!Q93","v":5900531004513},{"$f":"'DRUK ZAMÓWIENIA'!D93","v":"Jogurt SYR z jagodami 150g "},{"$f":"'DRUK ZAMÓWIENIA'!H93","v":0},{"$f":"IFERROR('DRUK ZAMÓWIENIA'!N93,0)","v":0},{"$f":"'DRUK ZAMÓWIENIA'!R93","v":"A"}]
[79,{"$f":"'DRUK ZAMÓWIENIA'!Q94","v":5900531004520},{"$f":"'DRUK ZAMÓWIENIA'!D94","v":"Jogurt SYR z brzoskwiniami 150g "},{"$f":"'DRUK ZAMÓWIENIA'!H94","v":0},{"$f":"IFERROR('DRUK ZAMÓWIENIA'!N94,0)","v":0},{"$f":"'DRUK ZAMÓWIENIA'!R94","v":"N"}]
[80,{"$f":"'DRUK ZAMÓWIENIA'!Q95","v":5900531004537},{"$f":"'DRUK ZAMÓWIENIA'!D95","v":"Jogurt SYR waniliowy 150g "},{"$f":"'DRUK ZAMÓWIENIA'!H95","v":0},{"$f":"IFERROR('DRUK ZAMÓWIENIA'!N95,0)","v":0},{"$f":"'DRUK ZAMÓWIENIA'!R95","v":"A"}]
[81,{"$f":"'DRUK ZAMÓWIENIA'!Q96","v":5900531004704},{"$f":"'DRUK ZAMÓWIENIA'!D96","v":"Jogurt SKYR z Mango 150g "},{"$f":"'DRUK ZAMÓWIENIA'!H96","v":0},{"$f":"IFERROR('DRUK ZAMÓWIENIA'!N96,0)","v":0},{"$f":"'DRUK ZAMÓWIENIA'!R96","v":"A"}]
[82,{"$f":"'DRUK ZAMÓWIENIA'!Q97","v":5900531004827},{"$f":"'DRUK ZAMÓWIENIA'!D97","v":"Jogurt SKYR czekolada z wiśniami 150g "},{"$f":"'DRUK ZAMÓWIENIA'!H97","v":0},{"$f":"IFERROR('DRUK ZAMÓWIENIA'!N97,0)","v":0},{"$f":"'DRUK ZAMÓWIENIA'!R97","v":"A"}]
[83,{"$f":"'DRUK ZAMÓWIENIA'!Q98","v":"5900531004834"},{"$f":"'DRUK ZAMÓWIENIA'!D98","v":"Jogurt SKYR TIRAMISU 150G"},{"$f":"'DRUK ZAMÓWIENIA'!H98","v":0},{"$f":"IFERROR('DRUK ZAMÓWIENIA'!N98,0)","v":0},{"$f":"'DRUK ZAMÓWIENIA'!R98","v":"A"}]
[84,{"$f":"'DRUK ZAMÓWIENIA'!Q99","v":"5900531004766"},{"$f":"'DRUK ZAMÓWIENIA'!D99","v":"Jogurt SKYR pomarańcza straciatella 150G"},{"$f":"'DRUK ZAMÓWIENIA'!H99","v":0},{"$f":"IFERROR('DRUK ZAMÓWIENIA'!N99,0)","v":0},{"$f":"'DRUK ZAMÓWIENIA'!R99","v":"A"}]
[82,{"$f":"'DRUK ZAMÓWIENIA'!Q100","v":5900531004735},{"$f":"'DRUK ZAMÓWIENIA'!D100","v":"SKYR NATURALNY 450G"},{"$f":"'DRUK ZAMÓWIENIA'!H100","v":0},{"$f":"IFERROR('DRUK ZAMÓWIENIA'!N100,0)","v":0},{"$f":"'DRUK ZAMÓWIENIA'!R100","v":"A"}]
[83,{"$f":"'DRUK ZAMÓWIENIA'!Q101","v":5900531004742},{"$f":"'DRUK ZAMÓWIENIA'!D101","v":"SKYR WANILIOWY 450G"},{"$f":"'DRUK ZAMÓWIENIA'!H101","v":0},{"$f":"IFERROR('DRUK ZAMÓWIENIA'!N101,0)","v":0},{"$f":"'DRUK ZAMÓWIENIA'!R101","v":"A"}]
[84,{"$f":"'DRUK ZAMÓWIENIA'!Q102","v":"5900531004971"},{"$f":"'DRUK ZAMÓWIENIA'!D102","v":"Jogurt KETO 150g "},{"$f":"'DRUK ZAMÓWIENIA'!H102","v":0},{"$f":"IFERROR('DRUK ZAMÓWIENIA'!N102,0)","v":0},{"$f":"'DRUK ZAMÓWIENIA'!R102","v":"N"}]
[85,{"$f":"'DRUK ZAMÓWIENIA'!Q103","v":5900531004292},{"$f":"'DRUK ZAMÓWIENIA'!D103","v":"Serek Piątuś malinowy"},{"$f":"'DRUK ZAMÓWIENIA'!H103","v":0},{"$f":"IFERROR('DRUK ZAMÓWIENIA'!N103,0)","v":0},{"$f":"'DRUK ZAMÓWIENIA'!R103","v":"N"}]
[86,{"$f":"'DRUK ZAMÓWIENIA'!Q104","v":5900531003639},{"$f":"'DRUK ZAMÓWIENIA'!D104","v":"Serek Piątuś waniliowy"},{"$f":"'DRUK ZAMÓWIENIA'!H104","v":0},{"$f":"IFERROR('DRUK ZAMÓWIENIA'!N104,0)","v":0},{"$f":"'DRUK ZAMÓWIENIA'!R104","v":"N"}]
[87,{"$f":"'DRUK ZAMÓWIENIA'!Q105","v":5900531003646},{"$f":"'DRUK ZAMÓWIENIA'!D105","v":"Serek Piątuś bananowy"},{"$f":"'DRUK ZAMÓWIENIA'!H105","v":0},{"$f":"IFERROR('DRUK ZAMÓWIENIA'!N105,0)","v":0},{"$f":"'DRUK ZAMÓWIENIA'!R105","v":"N"}]
[88,{"$f":"'DRUK ZAMÓWIENIA'!Q106","v":5900531003622},{"$f":"'DRUK ZAMÓWIENIA'!D106","v":"Serek Piątuś truskawkowy"},{"$f":"'DRUK ZAMÓWIENIA'!H106","v":0},{"$f":"IFERROR('DRUK ZAMÓWIENIA'!N106,0)","v":0},{"$f":"'DRUK ZAMÓWIENIA'!R106","v":"N"}]
[89,{"$f":"'DRUK ZAMÓWIENIA'!Q107","v":"5900531004315"},{"$f":"'DRUK ZAMÓWIENIA'!D107","v":"Jogurt Piątuś jagodowy"},{"$f":"'DRUK ZAMÓWIENIA'!H107","v":0},{"$f":"IFERROR('DRUK ZAMÓWIENIA'!N107,0)","v":0},{"$f":"'DRUK ZAMÓWIENIA'!R107","v":"N"}]
[90,{"$f":"'DRUK ZAMÓWIENIA'!Q109","v":5901939103105},{"$f":"'DRUK ZAMÓWIENIA'!D109","v":"SKYR PITNY NATURALNY 330 ml"},{"$f":"'DRUK ZAMÓWIENIA'!H109","v":0},{"$f":"IFERROR('DRUK ZAMÓWIENIA'!N109,0)","v":0},{"$f":"'DRUK ZAMÓWIENIA'!R109","v":"A"}]
[91,{"$f":"'DRUK ZAMÓWIENIA'!Q110","v":5901939103068},{"$f":"'DRUK ZAMÓWIENIA'!D110","v":"SKYR PITNY MANGO & MARAKUJA 330 ml"},{"$f":"'DRUK ZAMÓWIENIA'!H110","v":0},{"$f":"IFERROR('DRUK ZAMÓWIENIA'!N110,0)","v":0},{"$f":"'DRUK ZAMÓWIENIA'!R110","v":"A"}]
[92,{"$f":"'DRUK ZAMÓWIENIA'!Q111","v":5901939103075},{"$f":"'DRUK ZAMÓWIENIA'!D111","v":"SKYR PITNY WANILIA 330 ml"},{"$f":"'DRUK ZAMÓWIENIA'!H111","v":0},{"$f":"IFERROR('DRUK ZAMÓWIENIA'!N111,0)","v":0},{"$f":"'DRUK ZAMÓWIENIA'!R111","v":"A"}]
[93,{"$f":"'DRUK ZAMÓWIENIA'!Q112","v":5901939103082},{"$f":"'DRUK ZAMÓWIENIA'!D112","v":"SKYR PITNY TRUSKAWKA 330 ml"},{"$f":"'DRUK ZAMÓWIENIA'!H112","v":0},{"$f":"IFERROR('DRUK ZAMÓWIENIA'!N112,0)","v":0},{"$f":"'DRUK ZAMÓWIENIA'!R112","v":"N"}]
[94,{"$f":"'DRUK ZAMÓWIENIA'!Q113","v":5901939103099},{"$f":"'DRUK ZAMÓWIENIA'!D113","v":"SKYR PITNY JAGODA 330 ml"},{"$f":"'DRUK ZAMÓWIENIA'!H113","v":0},{"$f":"IFERROR('DRUK ZAMÓWIENIA'!N113,0)","v":0},{"$f":"'DRUK ZAMÓWIENIA'!R113","v":"A"}]
[95,{"$f":"'DRUK ZAMÓWIENIA'!Q114","v":5901939103235},{"$f":"'DRUK ZAMÓWIENIA'!D114","v":"SKYR PITNY TRUSKAWKA KIWI 330 ml"},{"$f":"'DRUK ZAMÓWIENIA'!H114","v":0},{"$f":"IFERROR('DRUK ZAMÓWIENIA'!N114,0)","v":0},{"$f":"'DRUK ZAMÓWIENIA'!R114","v":"A"}]
[96,{"$f":"'DRUK ZAMÓWIENIA'!Q115","v":5901939103402},{"$f":"'DRUK ZAMÓWIENIA'!D115","v":"SKYR PITNY  WIŚNIA 330 ml"},{"$f":"'DRUK ZAMÓWIENIA'!H115","v":0},{"$f":"IFERROR('DRUK ZAMÓWIENIA'!N115,0)","v":0},{"$f":"'DRUK ZAMÓWIENIA'!R115","v":"A"}]
[96,{"$f":"'DRUK ZAMÓWIENIA'!Q116","v":5901939103389},{"$f":"'DRUK ZAMÓWIENIA'!D116","v":"SKYR PITNY LIMONKA MIĘTA 330 ml"},{"$f":"'DRUK ZAMÓWIENIA'!H116","v":0},{"$f":"IFERROR('DRUK ZAMÓWIENIA'!N116,0)","v":0},{"$f":"'DRUK ZAMÓWIENIA'!R116","v":"A"}]
[96,{"$f":"'DRUK ZAMÓWIENIA'!Q117","v":5901939103419},{"$f":"'DRUK ZAMÓWIENIA'!D117","v":"SKYR PITNY KOKOS ANANAS 330 ml"},{"$f":"'DRUK ZAMÓWIENIA'!H117","v":0},{"$f":"IFERROR('DRUK ZAMÓWIENIA'!N117,0)","v":0},{"$f":"'DRUK ZAMÓWIENIA'!R117","v":"A"}]
[96,{"$f":"'DRUK ZAMÓWIENIA'!Q118","v":5901939103372},{"$f":"'DRUK ZAMÓWIENIA'!D118","v":"SKYR PITNY NEKTARYNKA MALINA 330 ml"},{"$f":"'DRUK ZAMÓWIENIA'!H118","v":0},{"$f":"IFERROR('DRUK ZAMÓWIENIA'!N118,0)","v":0},{"$f":"'DRUK ZAMÓWIENIA'!R118","v":"A"}]
[96,{"$f":"'DRUK ZAMÓWIENIA'!Q119","v":5901939103334},{"$f":"'DRUK ZAMÓWIENIA'!D119","v":"SKYR PITNY WANILIA - STRACIATELLA  330 ml"},{"$f":"'DRUK ZAMÓWIENIA'!H119","v":0},{"$f":"IFERROR('DRUK ZAMÓWIENIA'!N119,0)","v":0},{"$f":"'DRUK ZAMÓWIENIA'!R119","v":"A"}]
[96,{"$f":"'DRUK ZAMÓWIENIA'!Q120","v":5901939000770},{"$f":"'DRUK ZAMÓWIENIA'!D120","v":"Mleko Wiejskie 2%"},{"$f":"'DRUK ZAMÓWIENIA'!H120","v":0},{"$f":"IFERROR('DRUK ZAMÓWIENIA'!N120,0)","v":0},{"$f":"'DRUK ZAMÓWIENIA'!R120","v":"A"}]
[97,{"$f":"'DRUK ZAMÓWIENIA'!Q121","v":5901939000794},{"$f":"'DRUK ZAMÓWIENIA'!D121","v":"Mleko Wiejskie 3,2%"},{"$f":"'DRUK ZAMÓWIENIA'!H121","v":0},{"$f":"IFERROR('DRUK ZAMÓWIENIA'!N121,0)","v":0},{"$f":"'DRUK ZAMÓWIENIA'!R121","v":"A"}]
[98,{"$f":"'DRUK ZAMÓWIENIA'!Q122","v":5901939002323},{"$f":"'DRUK ZAMÓWIENIA'!D122","v":"Mleko do Kawy "},{"$f":"'DRUK ZAMÓWIENIA'!H122","v":0},{"$f":"IFERROR('DRUK ZAMÓWIENIA'!N122,0)","v":0},{"$f":"'DRUK ZAMÓWIENIA'!R122","v":"A"}]
[99,{"$f":"'DRUK ZAMÓWIENIA'!Q123","v":5901939002002},{"$f":"'DRUK ZAMÓWIENIA'!D123","v":"Mleko BIO"},{"$f":"'DRUK ZAMÓWIENIA'!H123","v":0},{"$f":"IFERROR('DRUK ZAMÓWIENIA'!N123,0)","v":0},{"$f":"'DRUK ZAMÓWIENIA'!R123","v":"A"}]
[100,{"$f":"'DRUK ZAMÓWIENIA'!Q124","v":5901939002019},{"$f":"'DRUK ZAMÓWIENIA'!D124","v":"Wiejskie BEZ LAKTOZY 2%"},{"$f":"'DRUK ZAMÓWIENIA'!H124","v":0},{"$f":"IFERROR('DRUK ZAMÓWIENIA'!N124,0)","v":0},{"$f":"'DRUK ZAMÓWIENIA'!R124","v":"A"}]
[101,{"$f":"'DRUK ZAMÓWIENIA'!Q125","v":"5901939004082"},{"$f":"'DRUK ZAMÓWIENIA'!D125","v":"Mleko UHT 2%"},{"$f":"'DRUK ZAMÓWIENIA'!H125","v":0},{"$f":"IFERROR('DRUK ZAMÓWIENIA'!N125,0)","v":0},{"$f":"'DRUK ZAMÓWIENIA'!R125","v":"N"}]
[102,{"$f":"'DRUK ZAMÓWIENIA'!Q126","v":"5901939004099"},{"$f":"'DRUK ZAMÓWIENIA'!D126","v":"Mleko UHT 3,2%"},{"$f":"'DRUK ZAMÓWIENIA'!H126","v":0},{"$f":"IFERROR('DRUK ZAMÓWIENIA'!N126,0)","v":0},{"$f":"'DRUK ZAMÓWIENIA'!R126","v":"N"}]
[103,{"$f":"'DRUK ZAMÓWIENIA'!Q127","v":"5901939004112"},{"$f":"'DRUK ZAMÓWIENIA'!D127","v":"MLEKO BIO UHT 2,5% 1l"},{"$f":"'DRUK ZAMÓWIENIA'!H127","v":0},{"$f":"IFERROR('DRUK ZAMÓWIENIA'!N127,0)","v":0},{"$f":"'DRUK ZAMÓWIENIA'!R127","v":"N"}]
[104,{"$f":"'DRUK ZAMÓWIENIA'!Q128","v":"5901939004105"},{"$f":"'DRUK ZAMÓWIENIA'!D128","v":"BEZ LAKTOZY UHT 1,5% 1l"},{"$f":"'DRUK ZAMÓWIENIA'!H128","v":0},{"$f":"IFERROR('DRUK ZAMÓWIENIA'!N128,0)","v":0},{"$f":"'DRUK ZAMÓWIENIA'!R128","v":"N"}]
[105,{"$f":"'DRUK ZAMÓWIENIA'!Q129","v":"5901939004181"},{"$f":"'DRUK ZAMÓWIENIA'!D129","v":"MLEKO UHT DO KAWY 3,2% 1L"},{"$f":"'DRUK ZAMÓWIENIA'!H129","v":0},{"$f":"IFERROR('DRUK ZAMÓWIENIA'!N129,0)","v":0},{"$f":"'DRUK ZAMÓWIENIA'!R129","v":"N"}]
[106,{"$f":"'DRUK ZAMÓWIENIA'!Q130","v":5901939003016},{"$f":"'DRUK ZAMÓWIENIA'!D130","v":"Mleko czekoladowe 330ml"},{"$f":"'DRUK ZAMÓWIENIA'!H130","v":0},{"$f":"IFERROR('DRUK ZAMÓWIENIA'!N130,0)","v":0},{"$f":"'DRUK ZAMÓWIENIA'!R130","v":"N"}]
[107,{"$f":"'DRUK ZAMÓWIENIA'!Q131","v":5901939003023},{"$f":"'DRUK ZAMÓWIENIA'!D131","v":"Mleko waniliowe 330ml"},{"$f":"'DRUK ZAMÓWIENIA'!H131","v":0},{"$f":"IFERROR('DRUK ZAMÓWIENIA'!N131,0)","v":0},{"$f":"'DRUK ZAMÓWIENIA'!R131","v":"N"}]
[108,{"$f":"'DRUK ZAMÓWIENIA'!Q132","v":5901939003030},{"$f":"'DRUK ZAMÓWIENIA'!D132","v":"Mleko truskawkowe 330ml"},{"$f":"'DRUK ZAMÓWIENIA'!H132","v":0},{"$f":"IFERROR('DRUK ZAMÓWIENIA'!N132,0)","v":0},{"$f":"'DRUK ZAMÓWIENIA'!R132","v":"N"}]
[109,{"$f":"'DRUK ZAMÓWIENIA'!Q133","v":5901939003047},{"$f":"'DRUK ZAMÓWIENIA'!D133","v":"Mleko bananowe 330ml"},{"$f":"'DRUK ZAMÓWIENIA'!H133","v":0},{"$f":"IFERROR('DRUK ZAMÓWIENIA'!N133,0)","v":0},{"$f":"'DRUK ZAMÓWIENIA'!R133","v":"N"}]
[110,{"$f":"'DRUK ZAMÓWIENIA'!Q134","v":"5901939003207"},{"$f":"'DRUK ZAMÓWIENIA'!D134","v":"Mleko z Belgijską Czekoladą 330ml"},{"$f":"'DRUK ZAMÓWIENIA'!H134","v":0},{"$f":"IFERROR('DRUK ZAMÓWIENIA'!N134,0)","v":0},{"$f":"'DRUK ZAMÓWIENIA'!R134","v":"N"}]
[111,{"$f":"'DRUK ZAMÓWIENIA'!Q135","v":"5901939003214"},{"$f":"'DRUK ZAMÓWIENIA'!D135","v":"Mleko kokosowo migdałowe 330ml"},{"$f":"'DRUK ZAMÓWIENIA'!H135","v":0},{"$f":"IFERROR('DRUK ZAMÓWIENIA'!N135,0)","v":0},{"$f":"'DRUK ZAMÓWIENIA'!R135","v":"N"}]
[112,{"$f":"'DRUK ZAMÓWIENIA'!Q136","v":"5901939003009"},{"$f":"'DRUK ZAMÓWIENIA'!D136","v":"Maslanka"},{"$f":"'DRUK ZAMÓWIENIA'!H136","v":0},{"$f":"IFERROR('DRUK ZAMÓWIENIA'!N136,0)","v":0},{"$f":"'DRUK ZAMÓWIENIA'!R136","v":"N"}]
[113,{"$f":"'DRUK ZAMÓWIENIA'!Q137","v":5901939030012},{"$f":"'DRUK ZAMÓWIENIA'!D137","v":"Masło EXTRA"},{"$f":"'DRUK ZAMÓWIENIA'!H137","v":0},{"$f":"IFERROR('DRUK ZAMÓWIENIA'!N137,0)","v":0},{"$f":"'DRUK ZAMÓWIENIA'!R137","v":"A"}]
[114,{"$f":"'DRUK ZAMÓWIENIA'!Q138","v":5901939000404},{"$f":"'DRUK ZAMÓWIENIA'!D138","v":"Śmietankowy SMAK z Ostrołęki"},{"$f":"'DRUK ZAMÓWIENIA'!H138","v":0},{"$f":"IFERROR('DRUK ZAMÓWIENIA'!N138,0)","v":0},{"$f":"'DRUK ZAMÓWIENIA'!R138","v":"A"}]
[115,{"$f":"'DRUK ZAMÓWIENIA'!Q139","v":5901939006031},{"$f":"'DRUK ZAMÓWIENIA'!D139","v":"KOKTAJL MANGO MARAKUJA"},{"$f":"'DRUK ZAMÓWIENIA'!H139","v":0},{"$f":"IFERROR('DRUK ZAMÓWIENIA'!N139,0)","v":0},{"$f":"'DRUK ZAMÓWIENIA'!R139","v":"A"}]
[116,{"$f":"'DRUK ZAMÓWIENIA'!Q140","v":5901939006017},{"$f":"'DRUK ZAMÓWIENIA'!D140","v":"KOKTAJL MALINA GRANAT"},{"$f":"'DRUK ZAMÓWIENIA'!H140","v":0},{"$f":"IFERROR('DRUK ZAMÓWIENIA'!N140,0)","v":0},{"$f":"'DRUK ZAMÓWIENIA'!R140","v":"A"}]
[117,{"$f":"'DRUK ZAMÓWIENIA'!Q141","v":5901939006048},{"$f":"'DRUK ZAMÓWIENIA'!D141","v":"KOKTAJL TRUSKAWKA BANAN"},{"$f":"'DRUK ZAMÓWIENIA'!H141","v":0},{"$f":"IFERROR('DRUK ZAMÓWIENIA'!N141,0)","v":0},{"$f":"'DRUK ZAMÓWIENIA'!R141","v":"A"}]
[118,{"$f":"'DRUK ZAMÓWIENIA'!Q142","v":5901939105000},{"$f":"'DRUK ZAMÓWIENIA'!D142","v":"PIATNICA ROSLINNA OWSIANA 1l"},{"$f":"'DRUK ZAMÓWIENIA'!H142","v":0},{"$f":"IFERROR('DRUK ZAMÓWIENIA'!N142,0)","v":0},{"$f":"'DRUK ZAMÓWIENIA'!R142","v":"A"}]
[119,{"$f":"'DRUK ZAMÓWIENIA'!Q143","v":5901939105062},{"$f":"'DRUK ZAMÓWIENIA'!D143","v":"PIATNICA ROSLINNA SOJOWA 1l"},{"$f":"'DRUK ZAMÓWIENIA'!H143","v":0},{"$f":"IFERROR('DRUK ZAMÓWIENIA'!N143,0)","v":0},{"$f":"'DRUK ZAMÓWIENIA'!R143","v":"N"}]
[120,{"$f":"'DRUK ZAMÓWIENIA'!Q144","v":5901939105024},{"$f":"'DRUK ZAMÓWIENIA'!D144","v":"PIATNICA ROSLINNA RYZOWA 1l"},{"$f":"'DRUK ZAMÓWIENIA'!H144","v":0},{"$f":"IFERROR('DRUK ZAMÓWIENIA'!N144,0)","v":0},{"$f":"'DRUK ZAMÓWIENIA'!R144","v":"N"}]
[121,{"$f":"'DRUK ZAMÓWIENIA'!Q145","v":5901939105086},{"$f":"'DRUK ZAMÓWIENIA'!D145","v":"PIATNICA ROSLINNA MIGDALOWA 1l"},{"$f":"'DRUK ZAMÓWIENIA'!H145","v":0},{"$f":"IFERROR('DRUK ZAMÓWIENIA'!N145,0)","v":0},{"$f":"'DRUK ZAMÓWIENIA'!R145","v":"A"}]
[122,{"$f":"'DRUK ZAMÓWIENIA'!Q146","v":0},{"$f":"'DRUK ZAMÓWIENIA'!D146","v":"Liczba zamówionych pozycji"},{"$f":"'DRUK ZAMÓWIENIA'!H146","v":0},{"$f":"IFERROR('DRUK ZAMÓWIENIA'!N146,0)","v":0},{"$f":"'DRUK ZAMÓWIENIA'!R146","v":0}]
[123,{"$f":"'DRUK ZAMÓWIENIA'!Q147","v":0},{"$f":"'DRUK ZAMÓWIENIA'!D147","v":0},{"$f":"'DRUK ZAMÓWIENIA'!H147","v":0},{"$f":"IFERROR('DRUK ZAMÓWIENIA'!N147,0)","v":0},{"$f":"'DRUK ZAMÓWIENIA'!R147","v":0}]
[124,{"$f":"'DRUK ZAMÓWIENIA'!Q148","v":0},{"$f":"'DRUK ZAMÓWIENIA'!D148","v":0},{"$f":"'DRUK ZAMÓWIENIA'!H148","v":0},{"$f":"IFERROR('DRUK ZAMÓWIENIA'!N148,0)","v":0},{"$f":"'DRUK ZAMÓWIENIA'!R148","v":0}]
[125,{"$f":"'DRUK ZAMÓWIENIA'!Q149","v":0},{"$f":"'DRUK ZAMÓWIENIA'!D149","v":0},{"$f":"'DRUK ZAMÓWIENIA'!H149","v":0},{"$f":"IFERROR('DRUK ZAMÓWIENIA'!N149,0)","v":0},{"$f":"'DRUK ZAMÓWIENIA'!R149","v":0}]
[126,{"$f":"'DRUK ZAMÓWIENIA'!Q150","v":5900531000904},{"$f":"'DRUK ZAMÓWIENIA'!D150","v":"Twój Smak HoReCa 1kg"},{"$f":"'DRUK ZAMÓWIENIA'!H150","v":0},{"$f":"IFERROR('DRUK ZAMÓWIENIA'!N150,0)","v":0},{"$f":"'DRUK ZAMÓWIENIA'!R150","v":"A"}]
[127,{"$f":"'DRUK ZAMÓWIENIA'!Q151","v":5900531000997},{"$f":"'DRUK ZAMÓWIENIA'!D151","v":"Twój Smak do SUSHI 1kg"},{"$f":"'DRUK ZAMÓWIENIA'!H151","v":0},{"$f":"IFERROR('DRUK ZAMÓWIENIA'!N151,0)","v":0},{"$f":"'DRUK ZAMÓWIENIA'!R151","v":"A"}]
[128,{"$f":"'DRUK ZAMÓWIENIA'!Q152","v":5900531001802},{"$f":"'DRUK ZAMÓWIENIA'!D152","v":"Serek kremowy 5kg"},{"$f":"'DRUK ZAMÓWIENIA'!H152","v":0},{"$f":"IFERROR('DRUK ZAMÓWIENIA'!N152,0)","v":0},{"$f":"'DRUK ZAMÓWIENIA'!R152","v":"A"}]
[129,{"$f":"'DRUK ZAMÓWIENIA'!Q153","v":5900531001413},{"$f":"'DRUK ZAMÓWIENIA'!D153","v":"Twój Smak HoReCa 5kg"},{"$f":"'DRUK ZAMÓWIENIA'!H153","v":0},{"$f":"IFERROR('DRUK ZAMÓWIENIA'!N153,0)","v":0},{"$f":"'DRUK ZAMÓWIENIA'!R153","v":"A"}]
[130,{"$f":"'DRUK ZAMÓWIENIA'!Q154","v":0},{"$f":"'DRUK ZAMÓWIENIA'!D154","v":"Twój Smak HoReCa 5kg"},{"$f":"'DRUK ZAMÓWIENIA'!H154","v":0},{"$f":"IFERROR('DRUK ZAMÓWIENIA'!N154,0)","v":0},{"$f":"'DRUK ZAMÓWIENIA'!R154","v":"N"}]
[131,{"$f":"'DRUK ZAMÓWIENIA'!Q155","v":"5900531050022"},{"$f":"'DRUK ZAMÓWIENIA'!D155","v":"Serek wiejski 3kg"},{"$f":"'DRUK ZAMÓWIENIA'!H155","v":0},{"$f":"IFERROR('DRUK ZAMÓWIENIA'!N155,0)","v":0},{"$f":"'DRUK ZAMÓWIENIA'!R155","v":"A"}]
[132,{"$f":"'DRUK ZAMÓWIENIA'!Q156","v":5900531001673},{"$f":"'DRUK ZAMÓWIENIA'!D156","v":"Jogurt 2% HoReCa 1kg"},{"$f":"'DRUK ZAMÓWIENIA'!H156","v":0},{"$f":"IFERROR('DRUK ZAMÓWIENIA'!N156,0)","v":0},{"$f":"'DRUK ZAMÓWIENIA'!R156","v":"A"}]
[133,{"$f":"'DRUK ZAMÓWIENIA'!Q157","v":5900531001642},{"$f":"'DRUK ZAMÓWIENIA'!D157","v":"Jogurt 2% wiaderko"},{"$f":"'DRUK ZAMÓWIENIA'!H157","v":0},{"$f":"IFERROR('DRUK ZAMÓWIENIA'!N157,0)","v":0},{"$f":"'DRUK ZAMÓWIENIA'!R157","v":"A"}]
[134,{"$f":"'DRUK ZAMÓWIENIA'!Q159","v":5900531008054},{"$f":"'DRUK ZAMÓWIENIA'!D159","v":"Jogurt naturalny100g"},{"$f":"'DRUK ZAMÓWIENIA'!H159","v":0},{"$f":"IFERROR('DRUK ZAMÓWIENIA'!N159,0)","v":0},{"$f":"'DRUK ZAMÓWIENIA'!R159","v":"A"}]
[135,{"$f":"'DRUK ZAMÓWIENIA'!Q160","v":5900531108990},{"$f":"'DRUK ZAMÓWIENIA'!D160","v":"Jogurt owocowy MIX 20 x 100g"},{"$f":"'DRUK ZAMÓWIENIA'!H160","v":0},{"$f":"IFERROR('DRUK ZAMÓWIENIA'!N160,0)","v":0},{"$f":"'DRUK ZAMÓWIENIA'!R160","v":"A"}]
[136,{"$f":"'DRUK ZAMÓWIENIA'!Q161","v":"5900531004995"},{"$f":"'DRUK ZAMÓWIENIA'!D161","v":"JOGURT SKYR NATURALNY 0% 5kg"},{"$f":"'DRUK ZAMÓWIENIA'!H161","v":0},{"$f":"IFERROR('DRUK ZAMÓWIENIA'!N161,0)","v":0},{"$f":"'DRUK ZAMÓWIENIA'!R161","v":"A"}]
[136,{"$f":"'DRUK ZAMÓWIENIA'!Q162","v":5900531001482},{"$f":"'DRUK ZAMÓWIENIA'!D162","v":"Mascarpone 5kg"},{"$f":"'DRUK ZAMÓWIENIA'!H162","v":0},{"$f":"IFERROR('DRUK ZAMÓWIENIA'!N162,0)","v":0},{"$f":"'DRUK ZAMÓWIENIA'!R162","v":"A"}]
[137,{"$f":"'DRUK ZAMÓWIENIA'!Q163","v":5900531001765},{"$f":"'DRUK ZAMÓWIENIA'!D163","v":"Mascarpone 3kg"},{"$f":"'DRUK ZAMÓWIENIA'!H163","v":0},{"$f":"IFERROR('DRUK ZAMÓWIENIA'!N163,0)","v":0},{"$f":"'DRUK ZAMÓWIENIA'!R163","v":"A"}]
[138,{"$f":"'DRUK ZAMÓWIENIA'!Q164","v":5900531004186},{"$f":"'DRUK ZAMÓWIENIA'!D164","v":"Twaróg Sernikowy 5kg"},{"$f":"'DRUK ZAMÓWIENIA'!H164","v":0},{"$f":"IFERROR('DRUK ZAMÓWIENIA'!N164,0)","v":0},{"$f":"'DRUK ZAMÓWIENIA'!R164","v":"A"}]
[139,{"$f":"'DRUK ZAMÓWIENIA'!Q166","v":5900531001321},{"$f":"'DRUK ZAMÓWIENIA'!D166","v":"Śmietanka 12% wiaderka"},{"$f":"'DRUK ZAMÓWIENIA'!H166","v":0},{"$f":"IFERROR('DRUK ZAMÓWIENIA'!N166,0)","v":0},{"$f":"'DRUK ZAMÓWIENIA'!R166","v":"A"}]
[140,{"$f":"'DRUK ZAMÓWIENIA'!Q167","v":5900531001598},{"$f":"'DRUK ZAMÓWIENIA'!D167","v":"Smietana 12% HoReCa 1kg"},{"$f":"'DRUK ZAMÓWIENIA'!H167","v":0},{"$f":"IFERROR('DRUK ZAMÓWIENIA'!N167,0)","v":0},{"$f":"'DRUK ZAMÓWIENIA'!R167","v":"A"}]
[141,{"$f":"'DRUK ZAMÓWIENIA'!Q168","v":5900531001727},{"$f":"'DRUK ZAMÓWIENIA'!D168","v":"Śmietanka 18% wiaderka 3kg"},{"$f":"'DRUK ZAMÓWIENIA'!H168","v":0},{"$f":"IFERROR('DRUK ZAMÓWIENIA'!N168,0)","v":0},{"$f":"'DRUK ZAMÓWIENIA'!R168","v":"A"}]
[142,{"$f":"'DRUK ZAMÓWIENIA'!Q169","v":"5901939005041"},{"$f":"'DRUK ZAMÓWIENIA'!D169","v":"Śmietana 18% UHT 1l"},{"$f":"'DRUK ZAMÓWIENIA'!H169","v":0},{"$f":"IFERROR('DRUK ZAMÓWIENIA'!N169,0)","v":0},{"$f":"'DRUK ZAMÓWIENIA'!R169","v":"N"}]
[143,{"$f":"'DRUK ZAMÓWIENIA'!Q170","v":5900531001314},{"$f":"'DRUK ZAMÓWIENIA'!D170","v":"ŚMIETANA 18% 10L"},{"$f":"'DRUK ZAMÓWIENIA'!H170","v":0},{"$f":"IFERROR('DRUK ZAMÓWIENIA'!N170,0)","v":0},{"$f":"'DRUK ZAMÓWIENIA'!R170","v":"A"}]
[143,{"$f":"'DRUK ZAMÓWIENIA'!Q171","v":5900531001604},{"$f":"'DRUK ZAMÓWIENIA'!D171","v":"Śmietana 18% HoReCa 1kg"},{"$f":"'DRUK ZAMÓWIENIA'!H171","v":0},{"$f":"IFERROR('DRUK ZAMÓWIENIA'!N171,0)","v":0},{"$f":"'DRUK ZAMÓWIENIA'!R171","v":"A"}]
[144,{"$f":"'DRUK ZAMÓWIENIA'!Q172","v":5900531001277},{"$f":"'DRUK ZAMÓWIENIA'!D172","v":"Śmietanka 30% wiaderka"},{"$f":"'DRUK ZAMÓWIENIA'!H172","v":0},{"$f":"IFERROR('DRUK ZAMÓWIENIA'!N172,0)","v":0},{"$f":"'DRUK ZAMÓWIENIA'!R172","v":"A"}]
[145,{"$f":"'DRUK ZAMÓWIENIA'!Q173","v":"5901939005058"},{"$f":"'DRUK ZAMÓWIENIA'!D173","v":"Śmietana 30% UHT 1l"},{"$f":"'DRUK ZAMÓWIENIA'!H173","v":0},{"$f":"IFERROR('DRUK ZAMÓWIENIA'!N173,0)","v":0},{"$f":"'DRUK ZAMÓWIENIA'!R173","v":"A"}]
[146,{"$f":"'DRUK ZAMÓWIENIA'!Q174","v":5900531001123},{"$f":"'DRUK ZAMÓWIENIA'!D174","v":"Śmietana 36% wiaderka"},{"$f":"'DRUK ZAMÓWIENIA'!H174","v":0},{"$f":"IFERROR('DRUK ZAMÓWIENIA'!N174,0)","v":0},{"$f":"'DRUK ZAMÓWIENIA'!R174","v":"A"}]
[147,{"$f":"'DRUK ZAMÓWIENIA'!Q175","v":0},{"$f":"'DRUK ZAMÓWIENIA'!D175","v":"Śmietanka 42% wiaderka"},{"$f":"'DRUK ZAMÓWIENIA'!H175","v":0},{"$f":"IFERROR('DRUK ZAMÓWIENIA'!N175,0)","v":0},{"$f":"'DRUK ZAMÓWIENIA'!R175","v":"N"}]
[148,{"$f":"'DRUK ZAMÓWIENIA'!Q176","v":0},{"$f":"'DRUK ZAMÓWIENIA'!D176","v":"Liczba zamówionych pozycji"},{"$f":"'DRUK ZAMÓWIENIA'!H176","v":0},{"$f":"IFERROR('DRUK ZAMÓWIENIA'!N176,0)","v":0},{"$f":"'DRUK ZAMÓWIENIA'!R176","v":0}]
[149,{"$f":"'DRUK ZAMÓWIENIA'!Q177","v":0},{"$f":"'DRUK ZAMÓWIENIA'!D177","v":0},{"$f":"'DRUK ZAMÓWIENIA'!H177","v":0},{"$f":"IFERROR('DRUK ZAMÓWIENIA'!N177,0)","v":0},{"$f":"'DRUK ZAMÓWIENIA'!R177","v":0}]
[150,{"$f":"'DRUK ZAMÓWIENIA'!Q178","v":0},{"$f":"'DRUK ZAMÓWIENIA'!D178","v":0},{"$f":"'DRUK ZAMÓWIENIA'!H178","v":0},{"$f":"IFERROR('DRUK ZAMÓWIENIA'!N178,0)","v":"Kontakt:"},{"$f":"'DRUK ZAMÓWIENIA'!R178","v":0}]
[151,{"$f":"'DRUK ZAMÓWIENIA'!Q179","v":0},{"$f":"'DRUK ZAMÓWIENIA'!D179","v":0},{"$f":"'DRUK ZAMÓWIENIA'!H179","v":0},{"$f":"IFERROR('DRUK ZAMÓWIENIA'!N179,0)","v":0},{"$f":"'DRUK ZAMÓWIENIA'!R179","v":0}]
[152,{"$f":"'DRUK ZAMÓWIENIA'!Q180","v":0},{"$f":"'DRUK ZAMÓWIENIA'!D180","v":0},{"$f":"'DRUK ZAMÓWIENIA'!H180","v":0},{"$f":"IFERROR('DRUK ZAMÓWIENIA'!N180,0)","v":0},{"$f":"'DRUK ZAMÓWIENIA'!R180","v":0}]
[153,{"$f":"'DRUK ZAMÓWIENIA'!Q181","v":0},null,{"$f":"'DRUK ZAMÓWIENIA'!H181","v":0},{"$f":"IFERROR('DRUK ZAMÓWIENIA'!N181,0)","v":0},{"$f":"'DRUK ZAMÓWIENIA'!R181","v":0}]
[154,{"$f":"'DRUK ZAMÓWIENIA'!Q182","v":0},null,{"$f":"'DRUK ZAMÓWIENIA'!H182","v":0},{"$f":"IFERROR('DRUK ZAMÓWIENIA'!N182,0)","v":0},{"$f":"'DRUK ZAMÓWIENIA'!R182","v":0}]
[155,{"$f":"'DRUK ZAMÓWIENIA'!Q183","v":0},null,{"$f":"'DRUK ZAMÓWIENIA'!H183","v":0},{"$f":"IFERROR('DRUK ZAMÓWIENIA'!N183,0)","v":0},{"$f":"'DRUK ZAMÓWIENIA'!R183","v":0}]
[156,{"$f":"'DRUK ZAMÓWIENIA'!Q184","v":0},null,{"$f":"'DRUK ZAMÓWIENIA'!H184","v":0},{"$f":"IFERROR('DRUK ZAMÓWIENIA'!N184,0)","v":0},{"$f":"'DRUK ZAMÓWIENIA'!R184","v":0}]
[157,{"$f":"'DRUK ZAMÓWIENIA'!Q185","v":0},null,{"$f":"'DRUK ZAMÓWIENIA'!H185","v":0},{"$f":"IFERROR('DRUK ZAMÓWIENIA'!N185,0)","v":0},{"$f":"'DRUK ZAMÓWIENIA'!R185","v":0}]
[158,{"$f":"'DRUK ZAMÓWIENIA'!Q186","v":0},null,{"$f":"'DRUK ZAMÓWIENIA'!H186","v":0},{"$f":"IFERROR('DRUK ZAMÓWIENIA'!N186,0)","v":0},{"$f":"'DRUK ZAMÓWIENIA'!R186","v":0}]
[159,{"$f":"'DRUK ZAMÓWIENIA'!Q187","v":0},null,{"$f":"'DRUK ZAMÓWIENIA'!H187","v":0},{"$f":"IFERROR('DRUK ZAMÓWIENIA'!N187,0)","v":0},{"$f":"'DRUK ZAMÓWIENIA'!R187","v":0}]
[160,{"$f":"'DRUK ZAMÓWIENIA'!Q188","v":0},null,{"$f":"'DRUK ZAMÓWIENIA'!H188","v":0},{"$f":"IFERROR('DRUK ZAMÓWIENIA'!N188,0)","v":0},{"$f":"'DRUK ZAMÓWIENIA'!R188","v":0}]